Workbook
Name タクシー関係: 参照用!$D$19:$D$23
Name タクシー関係①: 参照用!$G$19:$H$19
Name タクシー関係①①タク: 参照用!$E$64:$H$64
Name タクシー関係①①公共: 参照用!$E$65:$H$65
Name タクシー関係②: 参照用!$G$20
Name タクシー関係②②プロ: 参照用!$E$66:$H$66
Name タクシー関係③: 参照用!$G$21:$H$21
Name タクシー関係③③イベ: 参照用!$E$67:$G$67
Name タクシー関係③③車内: 参照用!$E$68:$G$68
Name タクシー関係④: 参照用!$G$22:$H$22
Name タクシー関係④④駅等: 参照用!$E$70
Name タクシー関係④④宿泊: 参照用!$E$69
Name タクシー関係⑤: 参照用!$G$23:$H$23
Name タクシー関係⑤⑤EV: 参照用!$E$72:$F$72
Name タクシー関係⑤⑤観光: 参照用!$E$71:$F$71
Name モード種別: 参照用!$D$94:$D$99
Name 海事関係: 参照用!$D$29:$D$34
Name 海事関係①: 参照用!$G$29:$H$29
Name 海事関係①①公共: 参照用!$E$80:$H$80
Name 海事関係①①旅客: 参照用!$E$79:$H$79
Name 海事関係②: 参照用!$G$30
Name 海事関係②②企画: 参照用!$E$81:$H$81
Name 海事関係③: 参照用!$G$31
Name 海事関係③③船体: 参照用!$E$82:$I$82
Name 海事関係④: 参照用!$G$32
Name 海事関係④④観光: 参照用!$E$83
Name 海事関係⑤: 参照用!$G$33
Name 海事関係⑤⑤上記: 参照用!$E$84
Name 海事関係⑥: 参照用!$G$34
Name 海事関係⑥⑥船内: 参照用!$E$85:$I$85
Name 航空関係: 参照用!$D$35:$D$39
Name 航空関係①: 参照用!$G$35:$H$35
Name 航空関係①①公共: 参照用!$E$87:$H$87
Name 航空関係①①航空: 参照用!$E$86:$H$86
Name 航空関係②: 参照用!$G$36:$G$36
Name 航空関係②②企画: 参照用!$E$88:$H$88
Name 航空関係③: 参照用!$G$37:$G$37
Name 航空関係③③航空: 参照用!$E$89:$I$89
Name 航空関係④: 参照用!$G$38:$G$38
Name 航空関係④④上記: 参照用!$E$90
Name 航空関係⑤: 参照用!$G$39
Name 航空関係⑤⑤機内: 参照用!$E$91:$I$91
Name 乗合バス関係: 参照用!$D$4:$D$11
Name 乗合バス関係①: 参照用!$G$4:$H$4
Name 乗合バス関係①①バス: 参照用!$E$46:$H$46
Name 乗合バス関係①①公共: 参照用!$E$47:$H$47
Name 乗合バス関係②: 参照用!$G$5
Name 乗合バス関係②②企画: 参照用!$E$48:$H$48
Name 乗合バス関係③: 参照用!$G$6
Name 乗合バス関係③③イベ: 参照用!$E$49:$G$49
Name 乗合バス関係④: 参照用!$G$7
Name 乗合バス関係④④新規: 参照用!$E$50:$I$50
Name 乗合バス関係⑤: 参照用!$G$8
Name 乗合バス関係⑤⑤地域: 参照用!$E$51
Name 乗合バス関係⑥: 参照用!$G$9
Name 乗合バス関係⑥⑥観光: 参照用!$E$52:$H$52
Name 乗合バス関係⑦: 参照用!$G$10:$H$10
Name 乗合バス関係⑦⑦EV: 参照用!$E$54:$F$54
Name 乗合バス関係⑦⑦観光: 参照用!$E$53:$F$53
Name 乗合バス関係⑧: 参照用!$G$11

Sheet 表紙 
A2: 【注意】
A4: ① | B4: 様式２については、シート「様式２」に記入し作成してください。（「記入例（様式２）」を参考にしてください）
B5: ※実施する補助メニューにかかわらず、ご提出ください。
B6: ※なお、複数の補助対象事業を行う際は補助対象事業毎に新規ファイルを作成して入力してください。
B7: ※補助事業者名と各補助メニューの参加事業者が一致しているかご確認ください。
B8: ※「②事業に要する費用」については「モード種別」⇒「補助対象メニュー」⇒「詳細費目」⇒「大項目」の順に選択をしてください。
B16: ※予測収入について
B17: 計画応募時点では予測としてご記入いただきますので、補助金額には影響しませんが、 補助事業の結果により経費の1/2以上の収益が発生した場合（運賃収入等）は、収益納付の対象となります。
A26: ② | B26: 補助対象事業で、実証運行を行う際は実証運行費用の算出根拠が必要となりますので、
B27: 必ず、シート「実証運行を行う際は記載してください⇒乗合」「貸切・タクシー」「鉄軌道」「海事関係」を活用し記載してください。
B29: 補助事業者名は様式2に記載の事業者名が反映されます
A36: ③ | B36: 「②-1積算根拠」の[詳細費目]を選択する際、
B37: 事前に「②事業に関する費用」の[モード種別]、[補助対象メニュー]を順にそれぞれプルダウンで選択してください。
B38: ※下記図箇所「②事業に関する費用」のⅰ[モード種別]→ⅱ[補助対象メニュー]→「②-1積算根拠」のⅲ[詳細費目]
B39: の順にプルダウンを選択してください。
B53: ※モード種別から順に選択いただきますと次に選択する項目が明るい黄色のハイライトで表示されます。
A55: ④ | B55: 詳細費目にEVタクシーの導入経費またはEVバスの導入経費を含む場合には、②-2および②-3をご入力ください。
B56: ※②-2と②-3の合計額と②-1算出根拠のうち「EVバス（タクシー）の導入経費の合計額」が一致している必要があります
A74: 【参考】 | B74: 様式2の『算出根拠のエラー（表示されている場合、誤りがあります）』に文言が表示されている場合は以下の通り、ご修正をお願いいたします
B75: ※エラーが表示されている状態で提出されますと、審査事務局より内容のご確認及び修正のご依頼をさせていただくことになります。
B76: エラーのない状態でのご提出をお願いいたします。
B77: ・詳細費目または大項目が選択されておりません
B78: 金額の入力はされているものの詳細費目または大項目の入力が漏れておりますので、「詳細費目」⇒「大項目」の順に選択をしてください。
B79: ※詳細費目が選択されていない場合、補助金合計額への金額の反映が行われませんので、ご注意ください。
B81: ・詳細費目は補助対象経費の例からお選びください
B82: 選択できる詳細費目は補助対象メニューごとに決まっておりますので、正しい「補助対象メニュー」または「詳細費目」を選択してください。
B83: ※詳細費目選択後に、モード種別や補助対象メニューを変更すると、通常は選択不可の詳細費目が選択された状態になることがございます。
B84: ※詳細費目が正しく選択されていない場合、補助金合計額への金額の反映が行われませんので、ご注意ください。
B85: ※各補助対象メニューに対して選択可能な詳細費目は、補助対象メニュー一覧シートの「補助対象メニューの例」の中からお選びください。
B87: ・大項目の選択が誤っております
B88: 選択できる大項目は補助対象メニュー・詳細費目ごとに決まっておりますので、正しい「詳細費目」または「大項目」を選択してください。
... B105: 導入経費の詳細をお確かめの上、正しい金額をご入力ください

Sheet 参照用
A2: モード別ドロップダウン
B3: モード種別 | D3: 補助メニュー | E3: モード種別＆補助メニュー | F3: 補助上限額 | G3: 補助対象経費の例 | I3: 大項目
B4: 乗合バス関係 | C4: ① | D4: ①観光イベント事業 | E4: =B4&C4 -> 乗合バス関係① | F4: 10000000 | G4: バスを活用した観光イベント開催経費（企画・デザイン・広告・印刷・販売手数料の経費）（※） | H4: 公共交通の利用促進に資するグッズに要する経費（景品除く）
B5: 乗合バス関係 | C5: ② | D5: ②プロモーション事業 | E5: =B5&C5 -> 乗合バス関係② | F5: 10000000 | G5: 企画乗車券の造成・プロモーションに要する経費（企画・デザイン・広告・印刷・販売手数料の経費）（※） | H5: ー
B6: 乗合バス関係 | C6: ③ | D6: ③イベント開催や誘客のためのバスラッピング事業 | E6: =B6&C6 -> 乗合バス関係③ | F6: 10000000 | G6: イベント運行用のバスラッピングにかかる費用 | H6: ー
B7: 乗合バス関係 | C7: ④ | D7: ④観光のための路線再編事業 | E7: =B7&C7 -> 乗合バス関係④ | F7: 10000000 | G7: 新規路線開設や既存路線再編のための調査、検討、検討会の開催、新規路線等運行開始時における広告などに係る費用 | H7: ー
B8: 乗合バス関係 | C8: ⑤ | D8: ⑤地域と調整の上行う、観光需要にあわせた実証運行事業 | E8: =B8&C8 -> 乗合バス関係⑤ | F8: 30000000 | G8: 地域の調整の上行う、上記観光事業等と連携した運行経費 | H8: ー
B9: 乗合バス関係 | C9: ⑥ | D9: ⑥利便性向上のためのバス車内及び乗り場整備事業 | E9: =B9&C9 -> 乗合バス関係⑥ | F9: 10000000 | G9: 観光目的のために行う案内表示の掲示、トイレ・休憩スペースの改修費用、wi-fi整備等 | H9: ー
B10: 乗合バス関係 | C10: ⑦ | D10: ⑦観光地の高付加価値化に資する先進的なバスの導入・整備事業 | E10: =B10&C10 -> 乗合バス関係⑦ | F10: 25000000 | G10: 観光資源となるようなバス（例：レトロバス）の導入費用 | H10: EVバスの導入費用（車両導入費、充電・蓄電・発電・変電施設整備費 等）
B11: 乗合バス関係 | C11: ⑧ | D11: ⑧バークアンドバスライドに取り組むための駐車場整備事業 | E11: =B11&C11 -> 乗合バス関係⑧ | F11: 2500000 | G11: 観光による交通混雑解消のために行うバークアンドバスライドの駐車場整備における道路舗装費用、案内標識（駐車場内看板）設置費用等 | H11: ー
B12: 貸切バス関係 | C12: ① | D12: ①観光イベント事業 | E12: =B12&C12 -> 貸切バス関係① | F12: 10000000 | G12: バスを活用した観光イベント開催経費（企画・デザイン・広告・印刷・販売手数料の経費）（※） | H12: ー
B13: 貸切バス関係 | C13: ② | D13: ②プロモーション事業 | E13: =B13&C13 -> 貸切バス関係② | F13: 10000000 | G13: プロモーションに要する経費（企画・デザイン・広告・印刷・販売手数料の経費）（※） | H13: ー
B14: 貸切バス関係 | C14: ③ | D14: ③イベント開催や誘客のためのバスラッピング事業 | E14: =B14&C14 -> 貸切バス関係③ | F14: 10000000 | G14: イベント運行用のバスラッピングにかかる費用 | H14: ー
B15: 貸切バス関係 | C15: ④ | D15: ④地域と調整の上行う、観光需要にあわせた実証運行事業 | E15: =B15&C15 -> 貸切バス関係④ | F15: 30000000 | G15: 宿泊施設等と連携して造成する新規ツアー等の実証運行に要する経費 等 | H15: ー
... B39: 航空関係 | C39: ⑤ | D39: ⑤受入環境向上のための機内・航空旅客ターミナル整備事業 | E39: =B39&C39 -> 航空関係⑤ | F39: 10000000 | G39: 機内・航空旅客ターミナルの受入向上にかかる費用（案内表示の掲示、トイレ・休憩スペースの改修 等） | H39: ー
A45: 大項目用
D46: =E4&C4&LEFT(G4,2) -> 乗合バス関係①①バス | E46: 補助人件費 | F46: 委託・外注費 | G46: 謝金・旅費 | H46: その他本事業に直接要する諸経費
D47: =E4&C4&LEFT(H4,2) -> 乗合バス関係①①公共 | E47: 補助人件費 | F47: 委託・外注費 | G47: 謝金・旅費 | H47: その他本事業に直接要する諸経費
D48: =E5&C5&LEFT(G5,2) -> 乗合バス関係②②企画 | E48: 補助人件費 | F48: 委託・外注費 | G48: 謝金・旅費 | H48: その他本事業に直接要する諸経費
D49: =E6&C6&LEFT(G6,2) -> 乗合バス関係③③イベ | E49: 整備費 | F49: 委託・外注費 | G49: その他本事業に直接要する諸経費
D50: =E7&C7&LEFT(G7,2) -> 乗合バス関係④④新規 | E50: 工事費 | F50: 工事関連費 | G50: 補助人件費 | H50: 委託・外注費 | I50: 謝金・旅費
D51: =E8&C8&LEFT(G8,2) -> 乗合バス関係⑤⑤地域 | E51: 交通事業運行費
D52: =E9&C9&LEFT(G9,2) -> 乗合バス関係⑥⑥観光 | E52: 工事費 | F52: 工事関連費 | G52: 委託・外注費 | H52: その他本事業に直接要する諸経費
D53: =E10&C10&LEFT(G10,2) -> 乗合バス関係⑦⑦観光 | E53: 車両購入費 | F53: 整備費
D54: =E10&C10&LEFT(H10,2) -> 乗合バス関係⑦⑦EV | E54: 車両購入費 | F54: 整備費
D55: =E11&C11&LEFT(G11,2) -> 乗合バス関係⑧⑧観光 | E55: 工事費 | F55: 工事関連費 | G55: 委託・外注費 | H55: その他本事業に直接要する諸経費
D56: =E12&C12&LEFT(G12,2) -> 貸切バス関係①①バス | E56: 補助人件費 | F56: 委託・外注費 | G56: 謝金・旅費 | H56: その他本事業に直接要する諸経費
D57: =E13&C13&LEFT(G13,2) -> 貸切バス関係②②プロ | E57: 補助人件費 | F57: 委託・外注費 | G57: 謝金・旅費 | H57: その他本事業に直接要する諸経費
D58: =E14&C14&LEFT(G14,2) -> 貸切バス関係③③イベ | E58: 整備費 | F58: 委託・外注費 | G58: その他本事業に直接要する諸経費
D59: =E15&C15&LEFT(G15,2) -> 貸切バス関係④④宿泊 | E59: 交通事業運行費
D60: =E16&C16&LEFT(G16,2) -> 貸切バス関係⑤⑤観光 | E60: 工事費 | F60: 工事関連費 | G60: 委託・外注費 | H60: その他本事業に直接要する諸経費
D61: =E17&C17&LEFT(G17,2) -> 貸切バス関係⑥⑥観光 | E61: 車両購入費 | F61: 整備費
D62: =E17&C17&LEFT(H17,2) -> 貸切バス関係⑥⑥EV | E62: 車両購入費 | F62: 整備費
D63: =E18&C18&LEFT(G18,2) -> 貸切バス関係⑦⑦観光 | E63: 工事費 | F63: 工事関連費 | G63: 委託・外注費 | H63: その他本事業に直接要する諸経費
D64: =E19&C19&LEFT(G19,2) -> タクシー関係①①タク | E64: 補助人件費 | F64: 委託・外注費 | G64: 謝金・旅費 | H64: その他本事業に直接要する諸経費
D65: =E19&C19&LEFT(H19,2) -> タクシー関係①①公共 | E65: 補助人件費 | F65: 委託・外注費 | G65: 謝金・旅費 | H65: その他本事業に直接要する諸経費
D66: =E20&C20&LEFT(G20,2) -> タクシー関係②②プロ | E66: 補助人件費 | F66: 委託・外注費 | G66: 謝金・旅費 | H66: その他本事業に直接要する諸経費
D67: =E21&C21&LEFT(G21,2) -> タクシー関係③③イベ | E67: 整備費 | F67: 委託・外注費 | G67: その他本事業に直接要する諸経費
D68: =E21&C21&LEFT(H21,2) -> タクシー関係③③車内 | E68: 整備費 | F68: 委託・外注費 | G68: その他本事業に直接要する諸経費
D69: =E22&C22&LEFT(G22,2) -> タクシー関係④④宿泊 | E69: 交通事業運行費
...

Sheet 大項目エラー検知用
A2: 1 | B2: =様式2!$B$13&LEFT(様式2!$D$13,1)&LEFT(様式2!$D$13,1)&LEFT(様式2!$C$26,2) | C2: =VLOOKUP(B2,参照用!$D$46:$I$91,2,0) -> #N/A | D2: 2 | E2: =様式2!$B$13&LEFT(様式2!$D$13,1)&LEFT(様式2!$D$13,1)&LEFT(様式2!$C$27,2) | F2: =VLOOKUP(E2,参照用!$D$46:$I$91,2,0) -> #N/A | G2: 3 | H2: =様式2!$B$13&LEFT(様式2!$D$13,1)&LEFT(様式2!$D$13,1)&LEFT(様式2!$C$28,2) | I2: =VLOOKUP(H2,参照用!$D$46:$I$91,2,0) -> #N/A | J2: 4 | K2: =様式2!$B$13&LEFT(様式2!$D$13,1)&LEFT(様式2!$D$13,1)&LEFT(様式2!$C$29,2) | L2: =VLOOKUP(K2,参照用!$D$46:$I$91,2,0) -> #N/A | M2: 5 | N2: =様式2!$B$13&LEFT(様式2!$D$13,1)&LEFT(様式2!$D$13,1)&LEFT(様式2!$C$30,2) | O2: =VLOOKUP(N2,参照用!$D$46:$I$91,2,0) -> #N/A
A3: 1 | B3: =様式2!$B$13&LEFT(様式2!$D$13,1)&LEFT(様式2!$D$13,1)&LEFT(様式2!$C$26,2) | C3: =VLOOKUP(B3,参照用!$D$46:$I$91,3,0) -> #N/A | D3: 2 | E3: =様式2!$B$13&LEFT(様式2!$D$13,1)&LEFT(様式2!$D$13,1)&LEFT(様式2!$C$27,2) | F3: =VLOOKUP(E3,参照用!$D$46:$I$91,3,0) -> #N/A | G3: 3 | H3: =様式2!$B$13&LEFT(様式2!$D$13,1)&LEFT(様式2!$D$13,1)&LEFT(様式2!$C$28,2) | I3: =VLOOKUP(H3,参照用!$D$46:$I$91,3,0) -> #N/A | J3: 4 | K3: =様式2!$B$13&LEFT(様式2!$D$13,1)&LEFT(様式2!$D$13,1)&LEFT(様式2!$C$29,2) | L3: =VLOOKUP(K3,参照用!$D$46:$I$91,3,0) -> #N/A | M3: 5 | N3: =様式2!$B$13&LEFT(様式2!$D$13,1)&LEFT(様式2!$D$13,1)&LEFT(様式2!$C$30,2) | O3: =VLOOKUP(N3,参照用!$D$46:$I$91,3,0) -> #N/A
A4: 1 | B4: =様式2!$B$13&LEFT(様式2!$D$13,1)&LEFT(様式2!$D$13,1)&LEFT(様式2!$C$26,2) | C4: =VLOOKUP(B4,参照用!$D$46:$I$91,4,0) -> #N/A | D4: 2 | E4: =様式2!$B$13&LEFT(様式2!$D$13,1)&LEFT(様式2!$D$13,1)&LEFT(様式2!$C$27,2) | F4: =VLOOKUP(E4,参照用!$D$46:$I$91,4,0) -> #N/A | G4: 3 | H4: =様式2!$B$13&LEFT(様式2!$D$13,1)&LEFT(様式2!$D$13,1)&LEFT(様式2!$C$28,2) | I4: =VLOOKUP(H4,参照用!$D$46:$I$91,4,0) -> #N/A | J4: 4 | K4: =様式2!$B$13&LEFT(様式2!$D$13,1)&LEFT(様式2!$D$13,1)&LEFT(様式2!$C$29,2) | L4: =VLOOKUP(K4,参照用!$D$46:$I$91,4,0) -> #N/A | M4: 5 | N4: =様式2!$B$13&LEFT(様式2!$D$13,1)&LEFT(様式2!$D$13,1)&LEFT(様式2!$C$30,2) | O4: =VLOOKUP(N4,参照用!$D$46:$I$91,4,0) -> #N/A
A5: 1 | B5: =様式2!$B$13&LEFT(様式2!$D$13,1)&LEFT(様式2!$D$13,1)&LEFT(様式2!$C$26,2) | C5: =VLOOKUP(B5,参照用!$D$46:$I$91,5,0) -> #N/A | D5: 2 | E5: =様式2!$B$13&LEFT(様式2!$D$13,1)&LEFT(様式2!$D$13,1)&LEFT(様式2!$C$27,2) | F5: =VLOOKUP(E5,参照用!$D$46:$I$91,5,0) -> #N/A | G5: 3 | H5: =様式2!$B$13&LEFT(様式2!$D$13,1)&LEFT(様式2!$D$13,1)&LEFT(様式2!$C$28,2) | I5: =VLOOKUP(H5,参照用!$D$46:$I$91,5,0) -> #N/A | J5: 4 | K5: =様式2!$B$13&LEFT(様式2!$D$13,1)&LEFT(様式2!$D$13,1)&LEFT(様式2!$C$29,2) | L5: =VLOOKUP(K5,参照用!$D$46:$I$91,5,0) -> #N/A | M5: 5 | N5: =様式2!$B$13&LEFT(様式2!$D$13,1)&LEFT(様式2!$D$13,1)&LEFT(様式2!$C$30,2) | O5: =VLOOKUP(N5,参照用!$D$46:$I$91,5,0) -> #N/A
A6: 1 | B6: =様式2!$B$13&LEFT(様式2!$D$13,1)&LEFT(様式2!$D$13,1)&LEFT(様式2!$C$26,2) | C6: =VLOOKUP(B6,参照用!$D$46:$I$91,6,0) -> #N/A | D6: 2 | E6: =様式2!$B$13&LEFT(様式2!$D$13,1)&LEFT(様式2!$D$13,1)&LEFT(様式2!$C$27,2) | F6: =VLOOKUP(E6,参照用!$D$46:$I$91,6,0) -> #N/A | G6: 3 | H6: =様式2!$B$13&LEFT(様式2!$D$13,1)&LEFT(様式2!$D$13,1)&LEFT(様式2!$C$28,2) | I6: =VLOOKUP(H6,参照用!$D$46:$I$91,6,0) -> #N/A | J6: 4 | K6: =様式2!$B$13&LEFT(様式2!$D$13,1)&LEFT(様式2!$D$13,1)&LEFT(様式2!$C$29,2) | L6: =VLOOKUP(K6,参照用!$D$46:$I$91,6,0) -> #N/A | M6: 5 | N6: =様式2!$B$13&LEFT(様式2!$D$13,1)&LEFT(様式2!$D$13,1)&LEFT(様式2!$C$30,2) | O6: =VLOOKUP(N6,参照用!$D$46:$I$91,6,0) -> #N/A
A8: 6 | B8: =様式2!$B$13&LEFT(様式2!$D$13,1)&LEFT(様式2!$D$13,1)&LEFT(様式2!$C$31,2) | C8: =VLOOKUP(B8,参照用!$D$46:$I$91,2,0) -> #N/A | D8: 7 | E8: =様式2!$B$13&LEFT(様式2!$D$13,1)&LEFT(様式2!$D$13,1)&LEFT(様式2!$C$32,2) | F8: =VLOOKUP(E8,参照用!$D$46:$I$91,2,0) -> #N/A | G8: 8 | H8: =様式2!$B$13&LEFT(様式2!$D$13,1)&LEFT(様式2!$D$13,1)&LEFT(様式2!$C$33,2) | I8: =VLOOKUP(H8,参照用!$D$46:$I$91,2,0) -> #N/A | J8: 9 | K8: =様式2!$B$13&LEFT(様式2!$D$13,1)&LEFT(様式2!$D$13,1)&LEFT(様式2!$C$34,2) | L8: =VLOOKUP(K8,参照用!$D$46:$I$91,2,0) -> #N/A | M8: 10 | N8: =様式2!$B$13&LEFT(様式2!$D$13,1)&LEFT(様式2!$D$13,1)&LEFT(様式2!$C$35,2) | O8: =VLOOKUP(N8,参照用!$D$46:$I$91,2,0) -> #N/A
A9: 6 | B9: =様式2!$B$13&LEFT(様式2!$D$13,1)&LEFT(様式2!$D$13,1)&LEFT(様式2!$C$31,2) | C9: =VLOOKUP(B9,参照用!$D$46:$I$91,3,0) -> #N/A | D9: 7 | E9: =様式2!$B$13&LEFT(様式2!$D$13,1)&LEFT(様式2!$D$13,1)&LEFT(様式2!$C$32,2) | F9: =VLOOKUP(E9,参照用!$D$46:$I$91,3,0) -> #N/A | G9: 8 | H9: =様式2!$B$13&LEFT(様式2!$D$13,1)&LEFT(様式2!$D$13,1)&LEFT(様式2!$C$33,2) | I9: =VLOOKUP(H9,参照用!$D$46:$I$91,3,0) -> #N/A | J9: 9 | K9: =様式2!$B$13&LEFT(様式2!$D$13,1)&LEFT(様式2!$D$13,1)&LEFT(様式2!$C$34,2) | L9: =VLOOKUP(K9,参照用!$D$46:$I$91,3,0) -> #N/A | M9: 10 | N9: =様式2!$B$13&LEFT(様式2!$D$13,1)&LEFT(様式2!$D$13,1)&LEFT(様式2!$C$35,2) | O9: =VLOOKUP(N9,参照用!$D$46:$I$91,3,0) -> #N/A
A10: 6 | B10: =様式2!$B$13&LEFT(様式2!$D$13,1)&LEFT(様式2!$D$13,1)&LEFT(様式2!$C$31,2) | C10: =VLOOKUP(B10,参照用!$D$46:$I$91,4,0) -> #N/A | D10: 7 | E10: =様式2!$B$13&LEFT(様式2!$D$13,1)&LEFT(様式2!$D$13,1)&LEFT(様式2!$C$32,2) | F10: =VLOOKUP(E10,参照用!$D$46:$I$91,4,0) -> #N/A | G10: 8 | H10: =様式2!$B$13&LEFT(様式2!$D$13,1)&LEFT(様式2!$D$13,1)&LEFT(様式2!$C$33,2) | I10: =VLOOKUP(H10,参照用!$D$46:$I$91,4,0) -> #N/A | J10: 9 | K10: =様式2!$B$13&LEFT(様式2!$D$13,1)&LEFT(様式2!$D$13,1)&LEFT(様式2!$C$34,2) | L10: =VLOOKUP(K10,参照用!$D$46:$I$91,4,0) -> #N/A | M10: 10 | N10: =様式2!$B$13&LEFT(様式2!$D$13,1)&LEFT(様式2!$D$13,1)&LEFT(様式2!$C$35,2) | O10: =VLOOKUP(N10,参照用!$D$46:$I$91,4,0) -> #N/A
A11: 6 | B11: =様式2!$B$13&LEFT(様式2!$D$13,1)&LEFT(様式2!$D$13,1)&LEFT(様式2!$C$31,2) | C11: =VLOOKUP(B11,参照用!$D$46:$I$91,5,0) -> #N/A | D11: 7 | E11: =様式2!$B$13&LEFT(様式2!$D$13,1)&LEFT(様式2!$D$13,1)&LEFT(様式2!$C$32,2) | F11: =VLOOKUP(E11,参照用!$D$46:$I$91,5,0) -> #N/A | G11: 8 | H11: =様式2!$B$13&LEFT(様式2!$D$13,1)&LEFT(様式2!$D$13,1)&LEFT(様式2!$C$33,2) | I11: =VLOOKUP(H11,参照用!$D$46:$I$91,5,0) -> #N/A | J11: 9 | K11: =様式2!$B$13&LEFT(様式2!$D$13,1)&LEFT(様式2!$D$13,1)&LEFT(様式2!$C$34,2) | L11: =VLOOKUP(K11,参照用!$D$46:$I$91,5,0) -> #N/A | M11: 10 | N11: =様式2!$B$13&LEFT(様式2!$D$13,1)&LEFT(様式2!$D$13,1)&LEFT(様式2!$C$35,2) | O11: =VLOOKUP(N11,参照用!$D$46:$I$91,5,0) -> #N/A
A12: 6 | B12: =様式2!$B$13&LEFT(様式2!$D$13,1)&LEFT(様式2!$D$13,1)&LEFT(様式2!$C$31,2) | C12: =VLOOKUP(B12,参照用!$D$46:$I$91,6,0) -> #N/A | D12: 7 | E12: =様式2!$B$13&LEFT(様式2!$D$13,1)&LEFT(様式2!$D$13,1)&LEFT(様式2!$C$32,2) | F12: =VLOOKUP(E12,参照用!$D$46:$I$91,6,0) -> #N/A | G12: 8 | H12: =様式2!$B$13&LEFT(様式2!$D$13,1)&LEFT(様式2!$D$13,1)&LEFT(様式2!$C$33,2) | I12: =VLOOKUP(H12,参照用!$D$46:$I$91,6,0) -> #N/A | J12: 9 | K12: =様式2!$B$13&LEFT(様式2!$D$13,1)&LEFT(様式2!$D$13,1)&LEFT(様式2!$C$34,2) | L12: =VLOOKUP(K12,参照用!$D$46:$I$91,6,0) -> #N/A | M12: 10 | N12: =様式2!$B$13&LEFT(様式2!$D$13,1)&LEFT(様式2!$D$13,1)&LEFT(様式2!$C$35,2) | O12: =VLOOKUP(N12,参照用!$D$46:$I$91,6,0) -> #N/A

Sheet 記入例（様式2）
B1: 様式２(R5交通・観光連携型事業ver.1)
B2: 補助金申請見込額関係資料
J3: =IF(J4="","▼ 対象の補助事業者名をご入力ください","") -> ▼ 対象の補助事業者名をご入力ください
I4: 補助事業者名
I5: ※黄色のセルにご入力ください
B6: ①補助申請見込額
D7: =IF(G13>$H$13,H13,G13) -> 4500000 | G7: 円
B9: ②事業に要する費用
B10: =IF(AND(B13=""),"▼ プルダウンよりご選択ください","") | E10: =IF(AND(B13<>"",D13=""),"▼ プルダウンよりご選択ください","") | M10: （円）
B11: モード種別 | D11: 補助対象メニュー | G11: 補助上限額 | H11: 補助金合計額 | K11: 補助対象経費 | L11: 自己資金 | M11: 予測収入
H12: 合計 | I12: 詳細費目① | J12: 詳細費目②
B13: 乗合バス関係 | D13: ①観光イベント事業 | G13: =IFERROR(VLOOKUP(B13&LEFT(D13,1),参照用!E4:F34,2,0),) -> 10000000 | H13: =ROUNDDOWN(M18+M19,0) -> 4500000 | I13: =M18 -> 3000000 | J13: =M19 -> 1500000 | K13: =K18+K19 -> 8000000 | N13: =IF(M13="","","【予測収入について】完了実績報告の際は、 補助申請見込額の1/2を超える金額は補助金額から調整されます")
D14: =IF(COUNTIF(C26:F35,"*EVタクシー*")>0,"EVタクシーの導入事業は③車両整備事業の「ラッピング事業」と組み合わせて実施する必要があり、"&CHAR(10)&"当補助金で導入したEVタクシーについては原則、納車日から4年間ラッピングを継続(令和6年3月1日以降は自己資金で実施)する必要がございます",IF(COUNTIF(C26:F35,"*EVバス*")=0,"","EVバスの導入経費は③「バスラッピング事業」と組み合わせて実施する必要があり、"&CHAR(10)&"当補助金で導入したEVバスについては原則、納車日から5年間ラッピングを継続(令和6年3月1日以降は自己資金で実施)する必要がございます"))
B17: 詳細費目別補助額
B18: 詳細費目内訳① | D18: =VLOOKUP(B$13&LEFT(D$13,1),参照用!$E$4:$H$34,3,0) -> バスを活用した観光イベント開催経費（企画・デザイン・広告・印刷・販売手数料の経費）（※） | J18: 補助対象経費 | K18: =SUMIF(C26:D35,D18,M26:M35) -> 5000000 | L18: 補助金額 | M18: =IF(COUNTIF(D18,"*（※）*")>0,IF(K18<=1000000,K18,(K18-1000000)/2+1000000),K18/2) -> 3000000
B19: 詳細費目内訳② | D19: =VLOOKUP(B$13&LEFT(D$13,1),参照用!$E$4:$H$34,4,0) -> 公共交通の利用促進に資するグッズに要する経費（景品除く） | J19: 補助対象経費 | K19: =SUMIF(C26:D35,D19,M26:M35) -> 3000000 | L19: 補助金額 | M19: =IF(COUNTIF(D19,"*（※）*")>0,IF(K19<=1000000,K19,(K19-1000000)/2+1000000),K19/2) -> 1500000
D20: ※補助率は補助対象経費に対して1/2補助
D21: ※詳細費目内訳のうち（※）が付されているものは、当該補助対象経費が１００万円以下の部分については定額補助とします。
B23: ②-1 積算根拠 | D23: =IF(AND(OR(COUNTIF(C26:F35,"*EVバスの導入費用*"),COUNTIF(C26:F35,"*EVタクシーの導入費用*")),G56=0),"詳細費目でEV車両の導入費用を選択した場合には②-2 EV車両の導入経費内訳もご入力ください","")
C24: =IF(AND(B13<>"",D13<>"",NOT(COUNTA(C26:D35))),"▼ プルダウンよりご選択ください","") | G24: =IF(AND(B13<>"",D13<>"",COUNTA(C26:D35),NOT(COUNTA(G26:G35))),"▼ プルダウンよりご選択ください","") | I24: =IF(AND(B13<>"",D13<>"",COUNTA(C26:D35),COUNTA(G26:G35),NOT(COUNTA(H26:H35))),"▼ 各費目の実施内容の詳細をご入力ください","") | M24: =IF(AND(B13<>"",D13<>"",COUNTA(C26:D35),COUNTA(G26:G35),COUNTA(H26:H35),NOT(COUNTA(M26:M35))),"▼ 各費目の金額をご記入ください","")
B25: 詳細費目 | G25: 大項目 | H25: 事業実施内容（具体的に記載） | M25: 金額 | N25: 算出根拠のエラー（表示されている場合、誤りがあります）
B26: 1 | C26: バスを活用した観光イベント開催経費（企画・デザイン・広告・印刷・販売手数料の経費）（※） | G26: 委託・外注費 | H26: 公共交通利用促進PRの為の頒布用グッズ製作費 | M26: 5000000
B27: 2 | C27: 公共交通の利用促進に資するグッズに要する経費（景品除く） | G27: 補助人件費 | H27: 発車式開催のためのアルバイト費用 | M27: 3000000
B28: 3 | N28: =IF(AND(OR(C28="",G28=""),M28<>""),"詳細費目を選択してください",IF(C28="","",IF(NOT(COUNTIF($D$18:$H$19,C28)),"詳細費目は補助対象経費の例からお選びください"&CHAR(10)&" ※正しく選択されていない場合、補助申請見込み額に反映されません",IF(NOT(COUNTIF(大項目エラー検知用!I$2:I$6,'記入例（様式2）'!G28)),"大項目の選択が誤っております",IF(AND(H28="",C28<>"",G28<>"",M28<>""),"事業実施内容をご記入ください","")))))
B29: 4 | N29: =IF(AND(OR(C29="",G29=""),M29<>""),"詳細費目を選択してください",IF(C29="","",IF(NOT(COUNTIF($D$18:$H$19,C29)),"詳細費目は補助対象経費の例からお選びください"&CHAR(10)&" ※正しく選択されていない場合、補助申請見込み額に反映されません",IF(NOT(COUNTIF(大項目エラー検知用!L$2:L$6,'記入例（様式2）'!G29)),"大項目の選択が誤っております",IF(AND(H29="",C29<>"",G29<>"",M29<>""),"事業実施内容をご記入ください","")))))
B30: 5 | N30: =IF(AND(OR(C30="",G30=""),M30<>""),"詳細費目を選択してください",IF(C30="","",IF(NOT(COUNTIF($D$18:$H$19,C30)),"詳細費目は補助対象経費の例からお選びください"&CHAR(10)&" ※正しく選択されていない場合、補助申請見込み額に反映されません",IF(NOT(COUNTIF(大項目エラー検知用!O$2:O$6,'記入例（様式2）'!G30)),"大項目の選択が誤っております",IF(AND(H30="",C30<>"",G30<>"",M30<>""),"事業実施内容をご記入ください","")))))
B31: 6 | N31: =IF(AND(OR(C31="",G31=""),M31<>""),"詳細費目を選択してください",IF(C31="","",IF(NOT(COUNTIF($D$18:$H$19,C31)),"詳細費目は補助対象経費の例からお選びください"&CHAR(10)&" ※正しく選択されていない場合、補助申請見込み額に反映されません",IF(NOT(COUNTIF(大項目エラー検知用!C$8:C$12,'記入例（様式2）'!G31)),"大項目の選択が誤っております",IF(AND(H31="",C31<>"",G31<>"",M31<>""),"事業実施内容をご記入ください","")))))
B32: 7 | N32: =IF(AND(OR(C32="",G32=""),M32<>""),"詳細費目を選択してください",IF(C32="","",IF(NOT(COUNTIF($D$18:$H$19,C32)),"詳細費目は補助対象経費の例からお選びください"&CHAR(10)&" ※正しく選択されていない場合、補助申請見込み額に反映されません",IF(NOT(COUNTIF(大項目エラー検知用!F$8:F$12,'記入例（様式2）'!G32)),"大項目の選択が誤っております",IF(AND(H32="",C32<>"",G32<>"",M32<>""),"事業実施内容をご記入ください","")))))
B33: 8 | N33: =IF(AND(OR(C33="",G33=""),M33<>""),"詳細費目を選択してください",IF(C33="","",IF(NOT(COUNTIF($D$18:$H$19,C33)),"詳細費目は補助対象経費の例からお選びください"&CHAR(10)&" ※正しく選択されていない場合、補助申請見込み額に反映されません",IF(NOT(COUNTIF(大項目エラー検知用!I$8:I$12,'記入例（様式2）'!G33)),"大項目の選択が誤っております",IF(AND(H33="",C33<>"",G33<>"",M33<>""),"事業実施内容をご記入ください","")))))
B34: 9 | N34: =IF(AND(OR(C34="",G34=""),M34<>""),"詳細費目を選択してください",IF(C34="","",IF(NOT(COUNTIF($D$18:$H$19,C34)),"詳細費目は補助対象経費の例からお選びください"&CHAR(10)&" ※正しく選択されていない場合、補助申請見込み額に反映されません",IF(NOT(COUNTIF(大項目エラー検知用!L$8:L$12,'記入例（様式2）'!G34)),"大項目の選択が誤っております",IF(AND(H34="",C34<>"",G34<>"",M34<>""),"事業実施内容をご記入ください","")))))
B35: 10 | N35: =IF(AND(OR(C35="",G35=""),M35<>""),"詳細費目を選択してください",IF(C35="","",IF(NOT(COUNTIF($D$18:$H$19,C35)),"詳細費目は補助対象経費の例からお選びください"&CHAR(10)&" ※正しく選択されていない場合、補助申請見込み額に反映されません",IF(NOT(COUNTIF(大項目エラー検知用!O$8:O$12,'記入例（様式2）'!G35)),"大項目の選択が誤っております",IF(AND(H35="",C35<>"",G35<>"",M35<>""),"事業実施内容をご記入ください","")))))
B36: 合計額 | M36: =SUM(M26:M35) -> 8000000
B38: ②-2 EV車両の導入経費詳細
C40: 車両区分 | D40: 車両の購入経費
D41: 台数 | E41: 単価 | F41: 合計額
F42: =D42*E42 -> 0
F43: =D43*E43 -> 0
F44: =D44*E44 -> 0
F45: =D45*E45 -> 0
F46: =D46*E46 -> 0
...

Sheet 補助対象メニュー一覧
B1: 交通・観光連携型事業（地域一体となった観光地・観光産業の再生・高付加価値化）補助対象メニュー詳細
B3: 補助対象事業者 | C3: 【モード種別】補助対象事業内容 | D3: 補助対象メニュー | E3: 補助率 | F3: 補助上限額 | G3: 補助対象経費の例 | H3: 大項目
B4: 交通事業者 （交通事業者：旅客自動車運送事業、鉄軌道事業、海上運送事業（旅客船事業）若しくはバスターミナル事業の許認可等を受けている事業者又は１.⑧や２.⑦の場合における駐車場を管理・運営する事業者を対象とします。） ※業法上の許認可等を有する事業者による、各種法令に適合した事業のみ支援対象となります。 ※既存事業者と競合する場合、既存事業者との協議が整っているか確認させていただきます。 ※交通事業者が本事業を行う際に、付随して当該交通事業者を含む団体や当該交通事業者の親会社等が行う取組についても支援の対象とする（ただし、右記「補助対象メニュー」の二重下線及び「補助対象経費の例」の二重下線を付したものに限る）。 ※本メニューをご活用いただく場合には、前広に地方自治体や運輸局等にご相談いただくことをおすすめします。 | C4: １．乗合バス関係（※） 地域の観光地の高付加価値化や観光施設等の収益力向上に資する目的で行う、地域と連携した各種の取組について支援を行います。 具体的には、ツアー造成やイベントの開催、実証的なアクセス交通の運行などについての支援を行うほか、地域の取組と連携して実施する、観光客受入のための各種施設の環境改善のための整備等を支援します。 | D4: ①観光イベント事業 | E4: 1/2 | F4: 1,000万 | G4: バスを活用した観光イベント開催経費（企画・デザイン・広告・印刷・販売手数料の経費）（※） | H4: 補助人件費 委託・外注費 謝金・旅費 その他本事業に直接要する諸経費
G5: 公共交通の利用促進に資するグッズに要する経費（景品除く） | H5: 補助人件費 委託・外注費 謝金・旅費 その他本事業に直接要する諸経費
D6: ②プロモーション事業 | E6: 1/2 | F6: 1,000万 | G6: 企画乗車券の造成・プロモーションに要する経費（企画・デザイン・広告・印刷・販売手数料の経費）（※） | H6: 補助人件費 委託・外注費 謝金・旅費 その他本事業に直接要する諸経費
D7: ③イベント開催や誘客のためのバスラッピング事業 | E7: 1/2 | F7: 1,000万 | G7: イベント運行用のバスラッピングにかかる費用 | H7: 整備費 委託・外注費 その他本事業に直接要する諸経費
D8: ④観光のための路線再編事業 | E8: 1/2 | F8: 1,000万 | G8: 新規路線開設や既存路線再編のための調査、検討、検討会の開催、新規路線等運行開始時における広告などに係る費用 | H8: 工事費 工事関連費 補助人件費 委託・外注費 謝金・旅費
D9: ⑤地域と調整の上行う、観光需要にあわせた実証運行事業 | E9: 1/2 | F9: 3,000万 | G9: 地域の調整の上行う、上記観光事業等と連携した運行経費 ※単に既存路線の維持を目的とするものではないこと。 | H9: 交通事業運行費
D10: ⑥利便性向上のためのバス車内及び乗り場整備事業 | E10: 1/2 | F10: 1,000万 | G10: 観光目的のために行う案内表示の掲示、トイレ・休憩スペースの改修費用、wi-fi整備等 | H10: 工事費 工事関連費 委託・外注費 その他本事業に直接要する諸経費
D11: ⑦観光地の高付加価値化に資する先進的なバスの導入・整備事業 | E11: 1/2 | F11: 2,500万 | G11: 観光資源となるようなバス（例：レトロバス）の導入費用 | H11: 車両購入費 整備費
G12: EVバスの導入費用（車両導入費、充電・蓄電・発電・変電施設整備費 等） ※EVバスの導入費用については③の事業と合わせて実施する場合、かつ、事業完了後もバスラッピング事業を原則5年間継続して行うものに限る。 | H12: 車両購入費 整備費
D13: ⑧パークアンドバスライドに取り組むための駐車場整備事業 | E13: 1/2 | F13: 250万 | G13: 観光による交通混雑解消のために行うパークアンドバスライドの駐車場整備における道路舗装費用、案内標識（駐車場内看板）設置費用等（交通事業者が行う①～⑦の事業と合わせて⑧が実施される場合に限る。） | H13: 工事費 工事関連費 委託・外注費 その他本事業に直接要する諸経費
C14: ２．貸切バス関係（※） 地域の観光地の高付加価値化や観光施設等の収益力向上に資する目的で行う、地域と連携した各種の取組について支援を行います。 具体的には、ツアー造成やイベントの開催、実証的なアクセス交通の運行などについての支援を行うほか、地域の取組と連携して実施する、観光客受入のための各種施設の環境改善のための整備等を支援します。 | D14: ①観光イベント事業 | E14: 1/2 | F14: 1,000万 | G14: バスを活用した観光イベント開催経費（企画・デザイン・広告・印刷・販売手数料の経費）（※） | H14: 補助人件費 委託・外注費 謝金・旅費 その他本事業に直接要する諸経費
D15: ②プロモーション事業 | E15: 1/2 | F15: 1,000万 | G15: プロモーションに要する経費（企画・デザイン・広告・印刷・販売手数料の経費）（※） | H15: 補助人件費 委託・外注費 謝金・旅費 その他本事業に直接要する諸経費
D16: ③イベント開催や誘客のためのバスラッピング事業 | E16: 1/2 | F16: 1,000万 | G16: イベント運行用のバスラッピングにかかる費用 | H16: 整備費 委託・外注費 その他本事業に直接要する諸経費
D17: ④地域と調整の上行う、観光需要にあわせた実証運行事業 | E17: 1/2 | F17: 3,000万 | G17: 宿泊施設等と連携して造成する新規ツアー等の実証運行に要する経費 等 ※単に既存路線の維持を目的とするものではないこと。 | H17: 交通事業運行費
D18: ⑤利便性向上のためのバス車内及び乗り場整備事業 | E18: 1/2 | F18: 1,000万 | G18: 観光目的のために行う案内表示の掲示、トイレ・休憩スペースの改修費用、wi-fi整備等 | H18: 工事費 工事関連費 委託・外注費 その他本事業に直接要する諸経費
D19: ⑥観光地の高付加価値化に資する先進的なバスの導入・整備事業 | E19: 1/2 | F19: 2,500万 | G19: 観光資源となるようなバス（例：レトロバス）の導入費用 | H19: 車両購入費 整備費
G20: EVバスの導入費用（車両導入費、充電・蓄電・発電・変電施設整備費 等） ※EVバスの導入費用については③の事業と合わせて実施する場合、かつ、事業完了後もバスラッピング事業を原則5年間継続して行うものに限る。 | H20: 車両購入費 整備費
D21: ⑦パークアンドバスライドに取り組むための駐車場整備事業 | E21: 1/2 | F21: 250万 | G21: 観光による交通混雑解消のために行うパークアンドバスライドの駐車場整備における道路舗装費用、案内標識（駐車場内看板）設置費用等（交通事業者が行う①～⑥の事業と合わせて⑦が実施される場合に限る。） | H21: 工事費 工事関連費 委託・外注費 その他本事業に直接要する諸経費
C22: ３．タクシー関係（※） 地域の観光地の高付加価値化や観光施設等の収益力向上に資する目的で行う、地域と連携した各種の取組について支援を行います。 具体的には、ツアー造成やイベントの開催、実証的なアクセス交通の運行などについての支援を行うほか、地域の取組と連携して実施する、観光客受入のための各種施設の環境改善のための整備等を支援します。 | D22: ①観光イベント事業 | E22: 1/2 | F22: 1,000万 | G22: タクシーを活用した観光イベント開催経費（企画・デザイン・広告・印刷・販売手数料の経費）（※） | H22: 補助人件費 委託・外注費 謝金・旅費 その他本事業に直接要する諸経費
G23: 公共交通の利用促進に資するグッズに要する経費（景品除く） | H23: 補助人件費 委託・外注費 謝金・旅費 その他本事業に直接要する諸経費
D24: ②プロモーション事業 | E24: 1/2 | F24: 1,000万 | G24: プロモーションに要する経費（企画・デザイン・広告・印刷・販売手数料の経費）（※） | H24: 補助人件費 委託・外注費 謝金・旅費 その他本事業に直接要する諸経費
D25: ③イベント開催や誘客のための車両整備事業 | E25: 1/2 | F25: 1,000万 | G25: イベント運行用のタクシーラッピングにかかる費用 | H25: 整備費 委託・外注費 その他本事業に直接要する諸経費
G26: 車内情報提供環境の整備等 | H26: 整備費 委託・外注費 その他本事業に直接要する諸経費
D27: ④地域と調整の上行う、観光需要にあわせた実証運行事業 | E27: 1/2 | F27: 3,000万 | G27: 宿泊施設等と連携して行うタクシーを活用した貸切型ツアーの実証経費 ※単に既存路線の維持を目的とするものではないこと。 | H27: 交通事業運行費
G28: 駅等と観光拠点等を結ぶ定額制運賃によるタクシー実証運行経費等 ※単に既存路線の維持を目的とするものではないこと。 | H28: 交通事業運行費
D29: ⑤観光地の高付加価値化に資する先進的なタクシーの導入・整備事業 | E29: 1/2 | F29: 2,500万 | G29: EVタクシーの導入費用（車両導入費、充電・蓄電・発電・変電施設整備費 等） | H29: 車両購入費 整備費
G30: 観光資源となるようなタクシー（例：レトロタクシー）の導入費用 ※EVタクシーの導入費用については③の事業と合わせて実施する場合、かつ、事業完了後もタクシーラッピング事業を原則4年間継続して行うものに限る。 | H30: 車両購入費 整備費
C31: ４．鉄軌道関係（※） 地域の観光地の高付加価値化や観光施設等の収益力向上に資する目的で行う、地域と連携した各種の取組について支援を行います。 具体的には、イベント列車の企画等に要する費用や車両改造費用、イベント列車の実証運行費用などのほか、地域の取組と連携して実施する、観光客受入のための各種施設の環境改善のための整備等を支援します。 | D31: ①観光イベント事業 | E31: 1/2 | F31: 1,000万 | G31: 鉄軌道を活用した観光イベント開催経費（企画・デザイン・広告・印刷・販売手数料の経費）（※） | H31: 補助人件費 委託・外注費 謝金・旅費 その他本事業に直接要する諸経費
G32: 公共交通の利用促進に資するグッズに要する経費（景品除く） | H32: 補助人件費 委託・外注費 謝金・旅費 その他本事業に直接要する諸経費
D33: ②プロモーション事業 | E33: 1/2 | F33: 1,000万 | G33: 企画乗車券の造成、プロモーションに要する経費（企画・デザイン・広告・印刷・販売手数料の経費）（※） | H33: 補助人件費 委託・外注費 謝金・旅費 その他本事業に直接要する諸経費
D34: ③観光のための車両・駅施設改修事業 | E34: 1/2 | F34: 5,000万 | G34: 観光目的にかかる列車の導入経費（購入、改造、運搬費）、観光イベントに関連する駅・トイレ・荷物置き場・その他観光客の来訪に資する施設整備 | H34: 工事費 工事関連費 整備費 車両購入費 委託・外注費 その他本事業に直接要する諸経費
D35: ④観光目的で行う、イベント運行・増便等についての実証運行事業 | E35: 1/2 | F35: 3,000万 | G35: 上記観光事業等と連携した運行経費 ※単に既存路線の維持を目的とするものではないこと。 | H35: 交通事業運行費
D36: ⑤受入環境向上のための鉄軌道施設整備事業 | E36: 1/2 | F36: 1,000万 | G36: 鉄軌道の受入環境向上のための、案内表示の掲示、トイレ・休憩スペースの改修 等 | H36: 工事費 工事関連費 委託・外注費 その他本事業に直接要する諸経費
C37: ５．海事関係（※） 地域の観光地の高付加価値化や観光施設等の収益力向上に資する目的で行う、地域と連携した各種の取組について支援を行います。 具体的には、船を活用したイベントの開催に要する費用や企画乗船券の造成等に要する費用、観光目的で行う船・旅客船ターミナルの改修費用、イベントに係る実証運航費用のほか、地域の取組と連携して実施する観光客受入のための各種施設の環境改善のための費用等を支援します。 | D37: ①観光イベント事業 | E37: 1/2 | F37: 1,000万 | G37: 旅客船を活用した観光イベント開催経費（企画・デザイン・広告・印刷・販売手数料の経費）（※） | H37: 補助人件費 委託・外注費 謝金・旅費 その他本事業に直接要する諸経費
G38: 公共交通の利用促進に資するグッズに要する経費（景品除く） | H38: 補助人件費 委託・外注費 謝金・旅費 その他本事業に直接要する諸経費
D39: ②プロモーション事業 | E39: 1/2 | F39: 1,000万 | G39: 企画乗船券の造成・プロモーションに要する経費（企画・デザイン・広告・印刷・販売手数料の経費）（※） | H39: 補助人件費 委託・外注費 謝金・旅費 その他本事業に直接要する諸経費
D40: ③観光魅力向上のための船・旅客船ターミナル改修事業 | E40: 1/2 | F40: 1,000万 | G40: 船体のラッピングや旅客船ターミナルの装飾等、イベント開催等に際し、観光資源としての魅力向上に資する船・旅客船ターミナルの改修費用 等 | H40: 工事費 工事関連費 整備費 委託・外注費 その他本事業に直接要する諸経費
D41: ④観光のための船舶導入事業 | E41: 1/2 | F41: 25,000万 | G41: 観光目的にかかる船舶の導入経費（購入費及び建造費） | H41: 船舶購入費
...

Sheet 様式2
B1: 様式２(R5交通・観光連携型事業ver.2.0.0)
B2: 補助金申請見込額関係資料
J3: =IF(J4="","▼ 対象の補助事業者名をご入力ください","") -> ▼ 対象の補助事業者名をご入力ください
I4: 補助事業者名
I5: ※黄色のセルにご入力ください
B6: ①補助申請見込額
D7: =IF(G13>$H$13,H13,G13) -> 0 | G7: 円
B9: ②事業に要する費用
B10: =IF(AND(B13=""),"▼ プルダウンよりご選択ください","") -> ▼ プルダウンよりご選択ください | E10: =IF(AND(B13<>"",D13=""),"▼ プルダウンよりご選択ください","") | M10: （円）
B11: モード種別 | D11: 補助対象メニュー | G11: 補助上限額 | H11: 補助金合計額 | K11: 補助対象経費 | L11: 自己資金 | M11: 予測収入
H12: 合計 | I12: 詳細費目① | J12: 詳細費目②
G13: =IFERROR(VLOOKUP(B13&LEFT(D13,1),参照用!E4:F39,2,0),) -> 0 | H13: =ROUNDDOWN(M18+M19,0) -> 0 | I13: =M18 -> 0 | J13: =M19 -> 0 | K13: =K18+K19 -> 0 | N13: =IF(M13="","","【予測収入について】完了実績報告の際は、 補助申請見込額の1/2を超える金額は補助金額から調整されます")
D14: =IF(COUNTIF(C26:F35,"*EVタクシー*")>0,"EVタクシーの導入事業は③車両整備事業の「ラッピング事業」と組み合わせて実施する必要があり、"&CHAR(10)&"当補助金で導入したEVタクシーについては原則、運行開始日から4年間ラッピングを継続(令和6年3月1日以降は自己資金で実施)する必要がございます",IF(COUNTIF(C26:F35,"*EVバス*")=0,"","EVバスの導入経費は③「バスラッピング事業」と組み合わせて実施する必要があり、"&CHAR(10)&"当補助金で導入したEVバスについては原則、運行開始日から5年間ラッピングを継続(令和6年3月1日以降は自己資金で実施)する必要がございます"))
B17: 詳細費目別補助額
B18: 詳細費目内訳① | D18: =IFERROR(VLOOKUP(B$13&LEFT(D$13,1),参照用!$E$4:$H$39,3,0),"モード種別と補助メニューを選択してください") -> モード種別と補助メニューを選択してください | J18: 補助対象経費 | K18: =SUMIF(C26:D35,D18,M26:M35) -> 0 | L18: 補助金額 | M18: =IF(COUNTIF(D18,"*（※）*")>0,IF(K18<=1000000,K18,(K18-1000000)/2+1000000),K18/2) -> 0
B19: 詳細費目内訳② | D19: =IFERROR(VLOOKUP(B$13&LEFT(D$13,1),参照用!$E$4:$H$39,4,0),"モード種別と補助メニューを選択してください") -> モード種別と補助メニューを選択してください | J19: 補助対象経費 | K19: =IF(D19="-",0,SUMIF(C26:D35,D19,M26:M35)) -> 0 | L19: 補助金額 | M19: =IF(COUNTIF(D19,"*（※）*")>0,IF(K19<=1000000,K19,(K19-1000000)/2+1000000),K19/2) -> 0
D20: ※補助率は補助対象経費に対して1/2補助
D21: ※詳細費目内訳のうち（※）が付されているものは、当該補助対象経費が１００万円以下の部分については定額補助とします。
B23: ②-1 積算根拠 | D23: =IF(AND(OR(COUNTIF(C26:F35,"*EVバスの導入費用*"),COUNTIF(C26:F35,"*EVタクシーの導入費用*")),G58=0),"詳細費目でEV車両の導入費用を選択した場合には②-2 EV車両の導入経費内訳もご入力ください","")
C24: =IF(AND(B13<>"",D13<>"",NOT(COUNTA(C26:D35))),"▼ プルダウンよりご選択ください","") | G24: =IF(AND(B13<>"",D13<>"",COUNTA(C26:D35),NOT(COUNTA(G26:G35))),"▼ プルダウンよりご選択ください","") | I24: =IF(AND(B13<>"",D13<>"",COUNTA(C26:D35),COUNTA(G26:G35),NOT(COUNTA(H26:H35))),"▼ 各費目の実施内容の詳細をご入力ください","") | M24: =IF(AND(B13<>"",D13<>"",COUNTA(C26:D35),COUNTA(G26:G35),COUNTA(H26:H35),NOT(COUNTA(M26:M35))),"▼ 各詳細費目の金額をご記入ください※免税事業者/簡易課税事業者は税込みで入力してください","")
B25: 詳細費目 | G25: 大項目 | H25: 事業実施内容（具体的に記載） | M25: 金額 | N25: 算出根拠のエラー（表示されている場合、誤りがあります）
B26: 1 | N26: =IF(AND(OR(C26="",G26=""),M26<>""),"詳細費目または大項目が選択されておりません",IF(C26="","",IF(NOT(COUNTIF($D$18:$H$19,C26)),"詳細費目は補助対象経費の例からお選びください"&CHAR(10)&" ※正しく選択されていない場合、補助申請見込み額に反映されません",IF(NOT(COUNTIF(大項目エラー検知用!C$2:C$6,様式2!G26)),"大項目の選択が誤っております",IF(AND(H26="",C26<>"",G26<>"",M26<>""),"事業実施内容をご記入ください","")))))
B27: 2 | N27: =IF(AND(OR(C27="",G27=""),M27<>""),"詳細費目または大項目が選択されておりません",IF(C27="","",IF(NOT(COUNTIF($D$18:$H$19,C27)),"詳細費目は補助対象経費の例からお選びください"&CHAR(10)&" ※正しく選択されていない場合、補助申請見込み額に反映されません",IF(NOT(COUNTIF(大項目エラー検知用!F$2:F$6,様式2!G27)),"大項目の選択が誤っております",IF(AND(H27="",C27<>"",G27<>"",M27<>""),"事業実施内容をご記入ください","")))))
B28: 3 | N28: =IF(AND(OR(C28="",G28=""),M28<>""),"詳細費目または大項目が選択されておりません",IF(C28="","",IF(NOT(COUNTIF($D$18:$H$19,C28)),"詳細費目は補助対象経費の例からお選びください"&CHAR(10)&" ※正しく選択されていない場合、補助申請見込み額に反映されません",IF(NOT(COUNTIF(大項目エラー検知用!I$2:I$6,様式2!G28)),"大項目の選択が誤っております",IF(AND(H28="",C28<>"",G28<>"",M28<>""),"事業実施内容をご記入ください","")))))
B29: 4 | N29: =IF(AND(OR(C29="",G29=""),M29<>""),"詳細費目または大項目が選択されておりません",IF(C29="","",IF(NOT(COUNTIF($D$18:$H$19,C29)),"詳細費目は補助対象経費の例からお選びください"&CHAR(10)&" ※正しく選択されていない場合、補助申請見込み額に反映されません",IF(NOT(COUNTIF(大項目エラー検知用!L$2:L$6,様式2!G29)),"大項目の選択が誤っております",IF(AND(H29="",C29<>"",G29<>"",M29<>""),"事業実施内容をご記入ください","")))))
B30: 5 | N30: =IF(AND(OR(C30="",G30=""),M30<>""),"詳細費目または大項目が選択されておりません",IF(C30="","",IF(NOT(COUNTIF($D$18:$H$19,C30)),"詳細費目は補助対象経費の例からお選びください"&CHAR(10)&" ※正しく選択されていない場合、補助申請見込み額に反映されません",IF(NOT(COUNTIF(大項目エラー検知用!O$2:O$6,様式2!G30)),"大項目の選択が誤っております",IF(AND(H30="",C30<>"",G30<>"",M30<>""),"事業実施内容をご記入ください","")))))
B31: 6 | N31: =IF(AND(OR(C31="",G31=""),M31<>""),"詳細費目または大項目が選択されておりません",IF(C31="","",IF(NOT(COUNTIF($D$18:$H$19,C31)),"詳細費目は補助対象経費の例からお選びください"&CHAR(10)&" ※正しく選択されていない場合、補助申請見込み額に反映されません",IF(NOT(COUNTIF(大項目エラー検知用!C$8:C$12,様式2!G31)),"大項目の選択が誤っております",IF(AND(H31="",C31<>"",G31<>"",M31<>""),"事業実施内容をご記入ください","")))))
B32: 7 | N32: =IF(AND(OR(C32="",G32=""),M32<>""),"詳細費目または大項目が選択されておりません",IF(C32="","",IF(NOT(COUNTIF($D$18:$H$19,C32)),"詳細費目は補助対象経費の例からお選びください"&CHAR(10)&" ※正しく選択されていない場合、補助申請見込み額に反映されません",IF(NOT(COUNTIF(大項目エラー検知用!F$8:F$12,様式2!G32)),"大項目の選択が誤っております",IF(AND(H32="",C32<>"",G32<>"",M32<>""),"事業実施内容をご記入ください","")))))
B33: 8 | N33: =IF(AND(OR(C33="",G33=""),M33<>""),"詳細費目または大項目が選択されておりません",IF(C33="","",IF(NOT(COUNTIF($D$18:$H$19,C33)),"詳細費目は補助対象経費の例からお選びください"&CHAR(10)&" ※正しく選択されていない場合、補助申請見込み額に反映されません",IF(NOT(COUNTIF(大項目エラー検知用!I$8:I$12,様式2!G33)),"大項目の選択が誤っております",IF(AND(H33="",C33<>"",G33<>"",M33<>""),"事業実施内容をご記入ください","")))))
B34: 9 | N34: =IF(AND(OR(C34="",G34=""),M34<>""),"詳細費目または大項目が選択されておりません",IF(C34="","",IF(NOT(COUNTIF($D$18:$H$19,C34)),"詳細費目は補助対象経費の例からお選びください"&CHAR(10)&" ※正しく選択されていない場合、補助申請見込み額に反映されません",IF(NOT(COUNTIF(大項目エラー検知用!L$8:L$12,様式2!G34)),"大項目の選択が誤っております",IF(AND(H34="",C34<>"",G34<>"",M34<>""),"事業実施内容をご記入ください","")))))
B35: 10 | N35: =IF(AND(OR(C35="",G35=""),M35<>""),"詳細費目または大項目が選択されておりません",IF(C35="","",IF(NOT(COUNTIF($D$18:$H$19,C35)),"詳細費目は補助対象経費の例からお選びください"&CHAR(10)&" ※正しく選択されていない場合、補助申請見込み額に反映されません",IF(NOT(COUNTIF(大項目エラー検知用!O$8:O$12,様式2!G35)),"大項目の選択が誤っております",IF(AND(H35="",C35<>"",G35<>"",M35<>""),"事業実施内容をご記入ください","")))))
B36: 合計額 | M36: =SUM(M26:M35) -> 0
B37: =IF(OR(COUNTIF(D13,"*実証運航*"),COUNTIF(D13,"*実証運行*")),"※実証運行（運航）メニューに該当する費用は、運転手等の人件費 補助事業者が雇用している"&CHAR(10)&" 正社員・契約社員等に対する人件費 、燃料費等における経常費用になります。","") | H37: =IF(COUNTIF(D19,"*EV*")>0,D19&" 合計額","") | M37: =IFERROR(IF(H37=D19&" 合計額",SUMIF(C26:F35,"*EV*",M26:M35),""),"")
B40: ②-2 EV車両の導入経費詳細
C42: 車両区分 | D42: 車両の購入経費
D43: 台数 | E43: 単価 | F43: 合計額
F44: =D44*E44 -> 0
F45: =D45*E45 -> 0
F46: =D46*E46 -> 0
F47: =D47*E47 -> 0
...

Sheet 実証運行を行う際は記載してください⇒乗合①
A1: 補足資料
A3: 実証運行費の算出根拠（乗合）
U5: 補助事業者名 | Z5: =IF(様式2!J4="","",様式2!J4)
A9: １．前年度の事業損益明細表における損益の実績
A10: 補助対象期間の 損益状況 | D10: 営業収益 | M10: 千円 | N10: 営業外収益 | U10: 千円
D11: 営業費用 | F11: 運行費（イ） | M11: 千円 | N11: 営業外費用 | U11: 千円
F12: 一般管理費 | M12: 千円 | N12: 営業外損益 | U12: 千円
D13: 営業損益 | H13: =H10+Q10-H11-H12-Q11 -> 0 | M13: 千円 | Q13: ※黄色のセルに記入してください
A14: 年間実車走行実績（ロ） | G14: ㎞
A15: キロ当たり運行費用（ハ） （ハ＝イ÷ロ） | D15: =IFERROR((H11/D14)*1000,"") | G15: 円
A18: ２．実証運行費の算出
A19: 実証運行想定日数（ニ） | G19: 日
A22: 運行系統名 | C22: 運行系統 | G22: キロ程（ホ） | I22: 1日あたり 運行回数（へ） | K22: 計画実車走行キロ（ト） （ト＝ホ×ヘ×２） | O22: 実証運行期間の 計画実車走行キロ（チ） （チ＝ト×ニ） | S22: 実証運行費（リ） （リ＝ハ×チ） | W22: 予測設定運賃収入 （ヌ） | AA22: 実証運行期間中の予測輸送人員 （ル） | AE22: 実証運行期間中のその他収入（ヲ） | AI22: 実証運行期間中の予測収入（ワ） （ワ＝ヌ×ル＋ヲ）
C23: 起点 | D23: 主な経由地 | F23: 終点
H24: km | J24: 回 | K24: =G24*I24*2 -> 0 | N24: ㎞ | O24: =K24*$D$19 -> 0 | R24: ㎞ | S24: =IFERROR(ROUNDDOWN(($D$15*O24),-3)," ") | V24: 円 | Z24: 円 | AD24: 人 | AH24: 円 | AI24: =IFERROR(ROUNDDOWN((W24*AA24),-3)," ")+AE24 -> 0 | AL24: 円
H25: km | J25: 回 | K25: =G25*I25*2 -> 0 | N25: ㎞ | O25: =K25*$D$19 -> 0 | R25: ㎞ | S25: =IFERROR(ROUNDDOWN(($D$15*O25),-3)," ") | V25: 円 | Z25: 円 | AD25: 人 | AH25: 円 | AI25: =IFERROR(ROUNDDOWN((W25*AA25),-3)," ")+AE25 -> 0 | AL25: 円
H26: km | J26: 回 | K26: =G26*I26*2 -> 0 | N26: ㎞ | O26: =K26*$D$19 -> 0 | R26: ㎞ | S26: =IFERROR(ROUNDDOWN(($D$15*O26),-3)," ") | V26: 円 | Z26: 円 | AD26: 人 | AH26: 円 | AI26: =IFERROR(ROUNDDOWN((W26*AA26),-3)," ")+AE26 -> 0 | AL26: 円
H27: km | J27: 回 | K27: =G27*I27*2 -> 0 | N27: ㎞ | O27: =K27*$D$19 -> 0 | R27: ㎞ | S27: =IFERROR(ROUNDDOWN(($D$15*O27),-3)," ") | V27: 円 | Z27: 円 | AD27: 人 | AH27: 円 | AI27: =IFERROR(ROUNDDOWN((W27*AA27),-3)," ")+AE27 -> 0 | AL27: 円
H28: km | J28: 回 | K28: =G28*I28*2 -> 0 | N28: ㎞ | O28: =K28*$D$19 -> 0 | R28: ㎞ | S28: =IFERROR(ROUNDDOWN(($D$15*O28),-3)," ") | V28: 円 | Z28: 円 | AD28: 人 | AH28: 円 | AI28: =IFERROR(ROUNDDOWN((W28*AA28),-3)," ")+AE28 -> 0 | AL28: 円
H29: km | J29: 回 | K29: =G29*I29*2 -> 0 | N29: ㎞ | O29: =K29*$D$19 -> 0 | R29: ㎞ | S29: =IFERROR(ROUNDDOWN(($D$15*O29),-3)," ") | V29: 円 | Z29: 円 | AD29: 人 | AH29: 円 | AI29: =IFERROR(ROUNDDOWN((W29*AA29),-3)," ")+AE29 -> 0 | AL29: 円
H30: km | J30: 回 | K30: =G30*I30*2 -> 0 | N30: ㎞ | O30: =K30*$D$19 -> 0 | R30: ㎞ | S30: =IFERROR(ROUNDDOWN(($D$15*O30),-3)," ") | V30: 円 | Z30: 円 | AD30: 人 | AH30: 円 | AI30: =IFERROR(ROUNDDOWN((W30*AA30),-3)," ")+AE30 -> 0 | AL30: 円
H31: km | J31: 回 | K31: =G31*I31*2 -> 0 | N31: ㎞ | O31: =K31*$D$19 -> 0 | R31: ㎞ | S31: =IFERROR(ROUNDDOWN(($D$15*O31),-3)," ") | V31: 円 | Z31: 円 | AD31: 人 | AH31: 円 | AI31: =IFERROR(ROUNDDOWN((W31*AA31),-3)," ")+AE31 -> 0 | AL31: 円
H32: km | J32: 回 | K32: =G32*I32*2 -> 0 | N32: ㎞ | O32: =K32*$D$19 -> 0 | R32: ㎞ | S32: =IFERROR(ROUNDDOWN(($D$15*O32),-3)," ") | V32: 円 | Z32: 円 | AD32: 人 | AH32: 円 | AI32: =IFERROR(ROUNDDOWN((W32*AA32),-3)," ")+AE32 -> 0 | AL32: 円
H33: km | J33: 回 | K33: =G33*I33*2 -> 0 | N33: ㎞ | O33: =K33*$D$19 -> 0 | R33: ㎞ | S33: =IFERROR(ROUNDDOWN(($D$15*O33),-3)," ") | V33: 円 | Z33: 円 | AD33: 人 | AH33: 円 | AI33: =IFERROR(ROUNDDOWN((W33*AA33),-3)," ")+AE33 -> 0 | AL33: 円
H34: km | J34: 回 | K34: =G34*I34*2 -> 0 | N34: ㎞ | O34: =K34*$D$19 -> 0 | R34: ㎞ | S34: =IFERROR(ROUNDDOWN(($D$15*O34),-3)," ") | V34: 円 | Z34: 円 | AD34: 人 | AH34: 円 | AI34: =IFERROR(ROUNDDOWN((W34*AA34),-3)," ")+AE34 -> 0 | AL34: 円
H35: km | J35: 回 | K35: =G35*I35*2 -> 0 | N35: ㎞ | O35: =K35*$D$19 -> 0 | R35: ㎞ | S35: =IFERROR(ROUNDDOWN(($D$15*O35),-3)," ") | V35: 円 | Z35: 円 | AD35: 人 | AH35: 円 | AI35: =IFERROR(ROUNDDOWN((W35*AA35),-3)," ")+AE35 -> 0 | AL35: 円
... H38: km | J38: 回 | K38: =G38*I38*2 -> 0 | N38: ㎞ | O38: =K38*$D$19 -> 0 | R38: ㎞ | S38: =IFERROR(ROUNDDOWN(($D$15*O38),-3)," ") | V38: 円 | Z38: 円 | AD38: 人 | AH38: 円 | AI38: =IFERROR(ROUNDDOWN((W38*AA38),-3)," ")+AE38 -> 0 | AL38: 円
B39: 新規路線の追加、増便、路線（経路）の見直しのいずれかを含みます
A41: 実証運行費（リ）の計 （補助対象経費） A | D41: =SUM(S24:U38) -> 0 | K41: 円 | O41: 実証運行期間中の予測収入（ワ）の計 B | R41: =SUM(AI24:AK38) -> 0 | Y41: 円
A44: 補助金額 C | D44: =IF(D41>60000000,30000000,ROUNDDOWN(D41/2,0)) -> 0 | K44: 円
A46: ※C=A×1/2
A47: ※補助上限額は3,000万円
A49: 【記入に際しての注意事項】
A50: ※「前年度の事業損益明細表における損益の実績」については、消費税相当額を控除した額を記載すること。
A51: ※イ欄の運行費については、事業損益明細表の一般管理費を控除した額を記載すること。
A52: ※ホ欄のキロ程については、往復路の平均で算出すること。（循環系統は循環系統キロの１／２により算出すること）
A53: ※へ欄の運行回数は、１日の平均を小数点第１位（第２位以下切り捨て）まで算出して記載すること。なお１往復を運行回数１回とし、循環系統の場合は、１循環で運行回数１回とする。

Sheet 実証運行を行う際は記載してください⇒乗合②運行系統が多い場合
A1: 補足資料
A3: 実証運行費の算出根拠（乗合）
U5: 補助事業者名 | Z5: =IF(様式2!J4="","",様式2!J4)
A9: １．前年度の事業損益明細表における損益の実績
A10: 補助対象期間の 損益状況 | D10: 営業収益 | M10: 千円 | N10: 営業外収益 | U10: 千円
D11: 営業費用 | F11: 運行費（イ） | M11: 千円 | N11: 営業外費用 | U11: 千円
F12: 一般管理費 | M12: 千円 | N12: 営業外損益 | U12: 千円
D13: 営業損益 | H13: =H10+Q10-H11-H12-Q11 -> 0 | M13: 千円 | Q13: ※黄色のセルに記入してください
A14: 年間実車走行実績（ロ） | G14: ㎞
A15: キロ当たり運行費用（ハ） （ハ＝イ÷ロ） | D15: =IFERROR((H11/D14)*1000,"") | G15: 円
A18: ２．実証運行費の算出
A19: 実証運行想定日数（ニ） | G19: 日
A22: 運行系統名 | C22: 運行系統 | G22: キロ程（ホ） | I22: 1日あたり 運行回数（へ） | K22: 計画実車走行キロ（ト） （ト＝ホ×ヘ×２） | O22: 実証運行期間の 計画実車走行キロ（チ） （チ＝ト×ニ） | S22: 実証運行費（リ） （リ＝ハ×チ） | W22: 予測設定運賃収入 （ヌ） | AA22: 実証運行期間中の予測輸送人員 （ル） | AE22: 実証運行期間中のその他収入（ヲ） | AI22: 実証運行期間中の予測収入（ワ） （ワ＝ヌ×ル＋ヲ）
C23: 起点 | D23: 主な経由地 | F23: 終点
H24: km | J24: 回 | K24: =G24*I24*2 -> 0 | N24: ㎞ | O24: =K24*$D$19 -> 0 | R24: ㎞ | S24: =IFERROR(ROUNDDOWN(($D$15*O24),-3)," ") | V24: 円 | Z24: 円 | AD24: 人 | AH24: 円 | AI24: =IFERROR(ROUNDDOWN((W24*AA24),-3)," ")+AE24 -> 0 | AL24: 円
H25: km | J25: 回 | K25: =G25*I25*2 -> 0 | N25: ㎞ | O25: =K25*$D$19 -> 0 | R25: ㎞ | S25: =IFERROR(ROUNDDOWN(($D$15*O25),-3)," ") | V25: 円 | Z25: 円 | AD25: 人 | AH25: 円 | AI25: =IFERROR(ROUNDDOWN((W25*AA25),-3)," ")+AE25 -> 0 | AL25: 円
H26: km | J26: 回 | K26: =G26*I26*2 -> 0 | N26: ㎞ | O26: =K26*$D$19 -> 0 | R26: ㎞ | S26: =IFERROR(ROUNDDOWN(($D$15*O26),-3)," ") | V26: 円 | Z26: 円 | AD26: 人 | AH26: 円 | AI26: =IFERROR(ROUNDDOWN((W26*AA26),-3)," ")+AE26 -> 0 | AL26: 円
H27: km | J27: 回 | K27: =G27*I27*2 -> 0 | N27: ㎞ | O27: =K27*$D$19 -> 0 | R27: ㎞ | S27: =IFERROR(ROUNDDOWN(($D$15*O27),-3)," ") | V27: 円 | Z27: 円 | AD27: 人 | AH27: 円 | AI27: =IFERROR(ROUNDDOWN((W27*AA27),-3)," ")+AE27 -> 0 | AL27: 円
H28: km | J28: 回 | K28: =G28*I28*2 -> 0 | N28: ㎞ | O28: =K28*$D$19 -> 0 | R28: ㎞ | S28: =IFERROR(ROUNDDOWN(($D$15*O28),-3)," ") | V28: 円 | Z28: 円 | AD28: 人 | AH28: 円 | AI28: =IFERROR(ROUNDDOWN((W28*AA28),-3)," ")+AE28 -> 0 | AL28: 円
H29: km | J29: 回 | K29: =G29*I29*2 -> 0 | N29: ㎞ | O29: =K29*$D$19 -> 0 | R29: ㎞ | S29: =IFERROR(ROUNDDOWN(($D$15*O29),-3)," ") | V29: 円 | Z29: 円 | AD29: 人 | AH29: 円 | AI29: =IFERROR(ROUNDDOWN((W29*AA29),-3)," ")+AE29 -> 0 | AL29: 円
H30: km | J30: 回 | K30: =G30*I30*2 -> 0 | N30: ㎞ | O30: =K30*$D$19 -> 0 | R30: ㎞ | S30: =IFERROR(ROUNDDOWN(($D$15*O30),-3)," ") | V30: 円 | Z30: 円 | AD30: 人 | AH30: 円 | AI30: =IFERROR(ROUNDDOWN((W30*AA30),-3)," ")+AE30 -> 0 | AL30: 円
H31: km | J31: 回 | K31: =G31*I31*2 -> 0 | N31: ㎞ | O31: =K31*$D$19 -> 0 | R31: ㎞ | S31: =IFERROR(ROUNDDOWN(($D$15*O31),-3)," ") | V31: 円 | Z31: 円 | AD31: 人 | AH31: 円 | AI31: =IFERROR(ROUNDDOWN((W31*AA31),-3)," ")+AE31 -> 0 | AL31: 円
H32: km | J32: 回 | K32: =G32*I32*2 -> 0 | N32: ㎞ | O32: =K32*$D$19 -> 0 | R32: ㎞ | S32: =IFERROR(ROUNDDOWN(($D$15*O32),-3)," ") | V32: 円 | Z32: 円 | AD32: 人 | AH32: 円 | AI32: =IFERROR(ROUNDDOWN((W32*AA32),-3)," ")+AE32 -> 0 | AL32: 円
H33: km | J33: 回 | K33: =G33*I33*2 -> 0 | N33: ㎞ | O33: =K33*$D$19 -> 0 | R33: ㎞ | S33: =IFERROR(ROUNDDOWN(($D$15*O33),-3)," ") | V33: 円 | Z33: 円 | AD33: 人 | AH33: 円 | AI33: =IFERROR(ROUNDDOWN((W33*AA33),-3)," ")+AE33 -> 0 | AL33: 円
H34: km | J34: 回 | K34: =G34*I34*2 -> 0 | N34: ㎞ | O34: =K34*$D$19 -> 0 | R34: ㎞ | S34: =IFERROR(ROUNDDOWN(($D$15*O34),-3)," ") | V34: 円 | Z34: 円 | AD34: 人 | AH34: 円 | AI34: =IFERROR(ROUNDDOWN((W34*AA34),-3)," ")+AE34 -> 0 | AL34: 円
H35: km | J35: 回 | K35: =G35*I35*2 -> 0 | N35: ㎞ | O35: =K35*$D$19 -> 0 | R35: ㎞ | S35: =IFERROR(ROUNDDOWN(($D$15*O35),-3)," ") | V35: 円 | Z35: 円 | AD35: 人 | AH35: 円 | AI35: =IFERROR(ROUNDDOWN((W35*AA35),-3)," ")+AE35 -> 0 | AL35: 円
... H63: km | J63: 回 | K63: =G63*I63*2 -> 0 | N63: ㎞ | O63: =K63*$D$19 -> 0 | R63: ㎞ | S63: =IFERROR(ROUNDDOWN(($D$15*O63),-3)," ") | V63: 円 | Z63: 円 | AD63: 人 | AH63: 円 | AI63: =IFERROR(ROUNDDOWN((W63*AA63),-3)," ")+AE63 -> 0 | AL63: 円
B64: 新規路線の追加、増便、路線（経路）の見直しのいずれかを含みます
A66: 実証運行費（リ）の計 （補助対象経費） A | D66: =SUM(S24:U63) -> 0 | K66: 円 | O66: 実証運行期間中の予測収入（ワ）の計 B | R66: =SUM(AI24:AK63) -> 0 | Y66: 円
A69: 補助金額 C | D69: =IF(D66>60000000,30000000,ROUNDDOWN(D66/2,0)) -> 0 | K69: 円
A71: ※C=A×1/2
A72: ※上限額3,000万円
A74: 【記入に際しての注意事項】
A75: ※「前年度の事業損益明細表における損益の実績」については、消費税相当額を控除した額を記載すること。
A76: ※イ欄の運行費については、事業損益明細表の一般管理費を控除した額を記載すること。
A77: ※ホ欄のキロ程については、往復路の平均で算出すること。（循環系統は循環系統キロの１／２により算出すること）
A78: ※へ欄の運行回数は、１日の平均を小数点第１位（第２位以下切り捨て）まで算出して記載すること。なお１往復を運行回数１回とし、循環系統の場合は、１循環で運行回数１回とする。

Sheet 貸切・タクシー
A1: 補足資料
A3: 実証運行費の算出根拠（貸切・タクシー）
P4: ※黄色のセルに記入してください
L5: 補助事業者名 | P5: =IF(様式2!J4="","",様式2!J4)
A10: １．実証運行費の算出
A11: ○実証運行に必要な費用…（Ａ） | T11: （単位：円）
A12: 実証運行に必要な経費名目 | J12: 積算内容 | S12: 費用額
A18: 合 計 | S18: =SUM(S13:W17) -> 0
B19: 新規路線の追加、増便、路線（経路）の見直しのいずれかを含みます
A21: ○実証運行により発生する収入…（Ｂ） | T21: （単位：円）
A22: 実証運行に要する経費の1/2を収受する必要があります ※駐車場代や高速道路代も含め補助対象経費（A）の1/2以上を収受してください
A23: 実証運行により発生する収入名目 | J23: 積算内容 | S23: 収入額
A29: 合 計 | S29: =SUM(S24:W28) -> 0 | X29: =IF(S18>S29*2,"収受予定額が実証運行の経費の合計額の1/2より低い金額となっております"&CHAR(10)&"経費と収入額の詳細については各運輸局へご相談ください","")
A32: ○補助対象経費（Ａ）
P33: =IF(S18="",0,S18) -> 0 | W33: 円
A34: ○実証運行による損益
P35: =IF(S18="",0,S29-S18) -> 0 | W35: 円
A36: ○補助金額（C）＝A×1/2
A37: ※上限額3,000万円 | P37: =IF(P33>60000000,30000000,ROUNDDOWN(P33/2,0)) -> 0 | W37: 円

Sheet 鉄軌道
A1: 補足資料
A3: 実証運行費の算出根拠（鉄軌道）
P4: ※黄色のセルに記入してください
L5: 補助事業者名 | P5: =IF(様式2!J4="","",様式2!J4)
A10: １．実証運行費の算出
A11: ○実証運行に必要な費用…（Ａ） | T11: （単位：円）
A12: 実証運行に必要な経費名目 | J12: 積算内容 | S12: 費用額
A18: 合 計 | S18: =SUM(S13:W17) -> 0
B19: 新規路線の追加、増便、路線（経路）の見直しのいずれかを含みます
A21: ○実証運行により発生する収入…（Ｂ） | T21: （単位：円）
A22: 実証運行により発生する収入名目 | J22: 積算内容 | S22: 収入額
A28: 合 計 | S28: =SUM(S23:W27) -> 0
A31: ○補助対象経費（Ａ）
P32: =S18 -> 0 | W32: 円
A35: ○補助金額（C）＝A×1/2
A36: ※上限額3,000万円 | P36: =IF(P32>60000000,30000000,ROUNDDOWN(P32/2,0)) -> 0 | W36: 円

Sheet 海事関係
A1: 補足資料
A3: 実証運航費の算出根拠（海事関係）
P4: ※黄色のセルに記入してください
L5: 補助事業者名 | P5: =IF(様式2!J4="","",様式2!J4)
A10: １．実証運航費の算出
A11: ○実証運航に必要な費用…（Ａ） | T11: （単位：円）
A12: 実証運航に必要な経費名目 | F12: 運航１回あたりの費用額 | J12: 積算内容 | P12: 運航回数 | S12: 総費用額
A18: 合 計 | S18: =SUM(S13:W17) -> 0
B19: 新規航路の追加、増便、航路の見直しのいずれかを含みます
A21: ○実証運航により発生する収入…（Ｂ） | T21: （単位：円）
A22: 実証運航により発生する収入名目 | F22: 運航１回あたりの収入額 | J22: 積算内容 | P22: 運航回数 | S22: 総収入額
A28: 合 計 | S28: =SUM(S23:W27) -> 0
A29: ※運航回数は片道を１回とし、遊覧船等の循環航路は１循環で運航回数１回とする。
A30: ※補助対象経費は、消費税を除いた金額を記載すること。
A33: ○補助対象経費（Ａ）
P34: =S18 -> 0 | W34: 円
A35: ○補助金額（C）＝A×1/2
A36: ※上限額3,000万円 | P36: =IF(P34>60000000,30000000,ROUNDDOWN(P34/2,0)) -> 0 | W36: 円

Sheet 航空
A1: 補足資料
A3: 実証運航費の算出根拠（航空）
P4: ※黄色のセルに記入してください
L5: 補助事業者名 | P5: =IF(様式2!J4="","",様式2!J4)
A10: １．実証運航費の算出
A11: ○実証運航に必要な費用…（Ａ） | T11: （単位：円）
A12: 実証運航に必要な経費名目 | J12: 積算内容 | S12: 費用額
A21: 合 計 | S21: =SUM(S13:W20) -> 0
B22: 新規路線の追加、増便、路線（経路）の見直しのいずれかを含みます
A24: ○実証運航により発生する収入…（Ｂ） | T24: （単位：円）
A25: 実証運航により発生する収入名目 | J25: 積算内容 | S25: 収入額
A31: 合 計 | S31: =SUM(S26:W30) -> 0
A34: ○補助対象経費（Ａ）
P35: =S21 -> 0 | W35: 円
A38: ○補助金額（C）＝A×1/2
A39: ※上限額3,000万円 | P39: =IF(P35>60000000,30000000,ROUNDDOWN(P35/2,0)) -> 0 | W39: 円

Sheet 記入例（乗合）
A1: 補足資料
A3: 実証運行費の算出根拠（乗合）
X5: 補助事業者名 | AC5: =IF(様式2!J4="","",様式2!J4)
A9: １．前年度の事業損益明細表における損益の実績
A10: 補助対象期間の 損益状況 | D10: 営業収益 | H10: 1000 | M10: 千円 | N10: 営業外収益 | Q10: 200 | U10: 千円
D11: 営業費用 | F11: 運行費（イ） | H11: 300 | M11: 千円 | N11: 営業外費用 | Q11: 200 | U11: 千円
F12: 一般管理費 | H12: 200 | M12: 千円 | N12: 営業外損益 | Q12: 0 | U12: 千円
D13: 営業損益 | H13: =H10+Q10-H11-H12-Q11 -> 500 | M13: 千円 | Q13: ※黄色のセルに記入してください
A14: 年間実車走行実績（ロ） | D14: 800 | G14: ㎞
A15: キロ当たり運行費用（ハ） （ハ＝イ÷ロ） | D15: =IFERROR((H11/D14)*1000,"") -> 375 | G15: 円
A18: ２．実証運行費の算出
A19: 実証運行想定日数（ニ） | D19: 30 | G19: 日
A22: 運行系統名 | C22: 運行系統 | G22: キロ程（ホ） | I22: 1日あたり 運行回数（へ） | K22: 計画実車走行キロ（ト） （ト＝ホ×ヘ×２） | O22: 実証運行期間の 計画実車走行キロ（チ） （チ＝ト×ニ） | S22: 実証運行費（リ） （リ＝ハ×チ） | W22: 予測設定運賃収入 （ヌ） | AA22: 実証運行期間中の予測輸送人員 （ル） | AE22: 実証運行期間中のその他収入（ヲ） | AI22: 実証運行期間中の予測収入（ワ） （ワ＝ヌ×ル＋ヲ）
C23: 起点 | D23: 主な経由地 | F23: 終点
A24: A | C24: B | D24: C | F24: D | G24: 10 | H24: km | I24: 2 | J24: 回 | K24: =G24*I24*2 -> 40 | N24: ㎞ | O24: =K24*$D$19 -> 1200 | R24: ㎞ | S24: =IFERROR(ROUNDDOWN(($D$15*O24),-3)," ") -> 450000 | V24: 円 | W24: 500 | Z24: 円 | AA24: 500 | AD24: 人 | AE24: 2000 | AH24: 円 | AI24: =IFERROR(ROUNDDOWN((W24*AA24),-3)," ")+AE24 -> 252000 | AL24: 円
H25: km | J25: 回 | K25: =G25*I25*2 -> 0 | N25: ㎞ | O25: =K25*$D$19 -> 0 | R25: ㎞ | S25: =IFERROR(ROUNDDOWN(($D$15*O25),-3)," ") -> 0 | V25: 円 | Z25: 円 | AD25: 人 | AH25: 円 | AI25: =IFERROR(ROUNDDOWN((W25*AA25),-3)," ")+AE25 -> 0 | AL25: 円
H26: km | J26: 回 | K26: =G26*I26*2 -> 0 | N26: ㎞ | O26: =K26*$D$19 -> 0 | R26: ㎞ | S26: =IFERROR(ROUNDDOWN(($D$15*O26),-3)," ") -> 0 | V26: 円 | Z26: 円 | AD26: 人 | AH26: 円 | AI26: =IFERROR(ROUNDDOWN((W26*AA26),-3)," ")+AE26 -> 0 | AL26: 円
H27: km | J27: 回 | K27: =G27*I27*2 -> 0 | N27: ㎞ | O27: =K27*$D$19 -> 0 | R27: ㎞ | S27: =IFERROR(ROUNDDOWN(($D$15*O27),-3)," ") -> 0 | V27: 円 | Z27: 円 | AD27: 人 | AH27: 円 | AI27: =IFERROR(ROUNDDOWN((W27*AA27),-3)," ")+AE27 -> 0 | AL27: 円
H28: km | J28: 回 | K28: =G28*I28*2 -> 0 | N28: ㎞ | O28: =K28*$D$19 -> 0 | R28: ㎞ | S28: =IFERROR(ROUNDDOWN(($D$15*O28),-3)," ") -> 0 | V28: 円 | Z28: 円 | AD28: 人 | AH28: 円 | AI28: =IFERROR(ROUNDDOWN((W28*AA28),-3)," ")+AE28 -> 0 | AL28: 円
H29: km | J29: 回 | K29: =G29*I29*2 -> 0 | N29: ㎞ | O29: =K29*$D$19 -> 0 | R29: ㎞ | S29: =IFERROR(ROUNDDOWN(($D$15*O29),-3)," ") -> 0 | V29: 円 | Z29: 円 | AD29: 人 | AH29: 円 | AI29: =IFERROR(ROUNDDOWN((W29*AA29),-3)," ")+AE29 -> 0 | AL29: 円
H30: km | J30: 回 | K30: =G30*I30*2 -> 0 | N30: ㎞ | O30: =K30*$D$19 -> 0 | R30: ㎞ | S30: =IFERROR(ROUNDDOWN(($D$15*O30),-3)," ") -> 0 | V30: 円 | Z30: 円 | AD30: 人 | AH30: 円 | AI30: =IFERROR(ROUNDDOWN((W30*AA30),-3)," ")+AE30 -> 0 | AL30: 円
H31: km | J31: 回 | K31: =G31*I31*2 -> 0 | N31: ㎞ | O31: =K31*$D$19 -> 0 | R31: ㎞ | S31: =IFERROR(ROUNDDOWN(($D$15*O31),-3)," ") -> 0 | V31: 円 | Z31: 円 | AD31: 人 | AH31: 円 | AI31: =IFERROR(ROUNDDOWN((W31*AA31),-3)," ")+AE31 -> 0 | AL31: 円
H32: km | J32: 回 | K32: =G32*I32*2 -> 0 | N32: ㎞ | O32: =K32*$D$19 -> 0 | R32: ㎞ | S32: =IFERROR(ROUNDDOWN(($D$15*O32),-3)," ") -> 0 | V32: 円 | Z32: 円 | AD32: 人 | AH32: 円 | AI32: =IFERROR(ROUNDDOWN((W32*AA32),-3)," ")+AE32 -> 0 | AL32: 円
H33: km | J33: 回 | K33: =G33*I33*2 -> 0 | N33: ㎞ | O33: =K33*$D$19 -> 0 | R33: ㎞ | S33: =IFERROR(ROUNDDOWN(($D$15*O33),-3)," ") -> 0 | V33: 円 | Z33: 円 | AD33: 人 | AH33: 円 | AI33: =IFERROR(ROUNDDOWN((W33*AA33),-3)," ")+AE33 -> 0 | AL33: 円
H34: km | J34: 回 | K34: =G34*I34*2 -> 0 | N34: ㎞ | O34: =K34*$D$19 -> 0 | R34: ㎞ | S34: =IFERROR(ROUNDDOWN(($D$15*O34),-3)," ") -> 0 | V34: 円 | Z34: 円 | AD34: 人 | AH34: 円 | AI34: =IFERROR(ROUNDDOWN((W34*AA34),-3)," ")+AE34 -> 0 | AL34: 円
H35: km | J35: 回 | K35: =G35*I35*2 -> 0 | N35: ㎞ | O35: =K35*$D$19 -> 0 | R35: ㎞ | S35: =IFERROR(ROUNDDOWN(($D$15*O35),-3)," ") -> 0 | V35: 円 | Z35: 円 | AD35: 人 | AH35: 円 | AI35: =IFERROR(ROUNDDOWN((W35*AA35),-3)," ")+AE35 -> 0 | AL35: 円
H36: km | J36: 回 | K36: =G36*I36*2 -> 0 | N36: ㎞ | O36: =K36*$D$19 -> 0 | R36: ㎞ | S36: =IFERROR(ROUNDDOWN(($D$15*O36),-3)," ") -> 0 | V36: 円 | Z36: 円 | AD36: 人 | AH36: 円 | AI36: =IFERROR(ROUNDDOWN((W36*AA36),-3)," ")+AE36 -> 0 | AL36: 円
... H63: km | J63: 回 | K63: =G63*I63*2 -> 0 | N63: ㎞ | O63: =K63*$D$19 -> 0 | R63: ㎞ | S63: =IFERROR(ROUNDDOWN(($D$15*O63),-3)," ") -> 0 | V63: 円 | Z63: 円 | AD63: 人 | AH63: 円 | AI63: =IFERROR(ROUNDDOWN((W63*AA63),-3)," ")+AE63 -> 0 | AL63: 円
A64: ✓ | B64: 新規路線の追加、増便、路線（経路）の見直しのいずれかを含みます
A67: 実証運行費（リ）の計 （補助対象経費） A | D67: =SUM(S24:U63) -> 450000 | K67: 円 | O67: 実証運行期間中の予測収入（ワ）の計 B | R67: =SUM(AI24:AK63) -> 252000 | Y67: 円
A70: 補助金額 C | D70: =IF(D67>60000000,30000000,ROUNDDOWN(D67/2,0)) -> 225000 | K70: 円
A72: ※C=A×1/2
A74: 【記入に際しての注意事項】
A75: ※「前年度の事業損益明細表における損益の実績」については、消費税相当額を控除した額を記載すること。
A76: ※イ欄の運行費については、事業損益明細表の一般管理費を控除した額を記載すること。
A77: ※ホ欄のキロ程については、往復路の平均で算出すること。（循環系統は循環系統キロの１／２により算出すること）
A78: ※へ欄の運行回数は、１日の平均を小数点第１位（第２位以下切り捨て）まで算出して記載すること。なお１往復を運行回数１回とし、循環系統の場合は、１循環で運行回数１回とする。

Sheet 記入例（貸切・タクシー）
A1: 補足資料
A3: 実証運行費の算出根拠（貸切・タクシー）
P4: ※黄色のセルに記入してください
L5: 補助事業者名 | P5: =IF(様式2!J4="","",様式2!J4)
A10: １．実証運行費の算出
A11: ○実証運行に必要な費用…（Ａ） | T11: （単位：円）
A12: 実証運行に必要な経費名目 | J12: 積算内容 | S12: 費用額
A13: 貸切バス・タクシー運賃 | J13: １往復当たり○○ Km、所要時間○○時間により○○往復で○○,○○○円 ○○日間 （平日のみ） | S13: 10000000
A14: 高速道路料金 | S14: 400000
A18: 合 計 | S18: =IF(AND(S13="",S14="",S15="",S16="",S17=""),0,SUM(S13:W17)) -> 10400000
A19: ✓ | B19: 新規路線の追加、増便、路線（経路）の見直しのいずれかを含みます
A21: ○実証運行により発生する収入…（Ｂ） | T21: （単位：円）
A22: 実証運行に要する経費の1/2を収受する必要があります ※駐車場代や高速代も含め補助対象経費（A）の1/2以上を収受してください
A23: 実証運行により発生する収入名目 | J23: 積算内容 | S23: 収入額
A24: 収受予定額（例：貸切バス運賃、料金の半額） | S24: 5200000
A29: 合 計 | S29: =IF(AND(S24="",S25="",S26="",S27="",S28=""),0,SUM(S24:W28)) -> 5200000 | X29: =IF(S18>S29*2,"収受予定額が実証運行の経費の合計額の1/2より低い金額となっております"&CHAR(10)&"経費と収入額の詳細については各運輸局へご相談ください","")
A32: ○補助対象経費（Ａ）
P33: =IF(S18="",0,S18) -> 10400000 | W33: 円
A34: ○実証運行による損益
P35: =IF(S18="",0,S29-S18) -> -5200000 | W35: 円
A36: ○補助金額（C）＝A×1/2
P37: =IF(P33>60000000,30000000,ROUNDDOWN(P33/2,0)) -> 5200000 | W37: 円

Sheet 記入例（航空）
A1: 補足資料
A3: 実証運航費の算出根拠（航空）
P4: ※黄色のセルに記入してください
L5: 補助事業者名 | P5: =IF(様式2!J4="","",様式2!J4)
A10: １．実証運航費の算出
A11: ○実証運航に必要な費用…（Ａ） | T11: （単位：円）
A12: 実証運航に必要な経費名目 | J12: 積算内容 | S12: 費用額
A13: 燃料費 | J13: 燃料費○円/ℓ×○ℓ/運航×運航回数
A14: 人件費 | J14: 運航乗務員・客室乗務員の人件費/運航×運航回数
A15: 整備費 | J15: 整備費/運航×運航回数
A21: 合 計 | S21: =SUM(S13:W20) -> 0
B22: 新規路線の追加、増便、路線（経路）の見直しのいずれかを含みます
A24: ○実証運航により発生する収入…（Ｂ） | T24: （単位：円）
A25: 実証運航により発生する収入名目 | J25: 積算内容 | S25: 収入額
A26: 乗客からの収受予定額 | J26: 収受額〇円/運航×運航回数〇回
A31: 合 計 | S31: =SUM(S26:W30) -> 0
A34: ○補助対象経費（Ａ）
P35: =S21 -> 0 | W35: 円
A38: ○補助金額（C）＝A×1/2
A39: ※上限額3,000万円 | P39: =IF(P35>60000000,30000000,ROUNDDOWN(P35/2,0)) -> 0 | W39: 円

Sheet Sheet1
A3: ①事業に要する費用
A4: 補助対象事業区分 | B4: 補助対象事業区分 | C4: 補助対象事業 | D4: 大項目
A5: 乗合バス関係 | B5: 乗合バス関係 | C5: ①乗合バスを活用した観光イベントの開催 | D5: バスを活用したイベント開催経費（企画・デザイン・広告・印刷・販売手数料の経費）
A6: 貸切バス関係 | D6: 公共交通の利用促進に資する頒布経費（景品除く）
A7: タクシー関係 | C7: ②企画乗車券の造成・プロモーションに要する経費 | D7: 企画乗車券の造成・プロモーションに要する経費（企画・デザイン・広告・印刷・販売手数料の経費）
A8: 鉄軌道関係 | C8: ③イベント開催や誘客のために必要となる、バスラッピング費用 | D8: イベント開催や誘客のために必要となる経費（企画・デザイン・広告・印刷・販売手数料の経費）
A9: 海事関係 | D9: イベント運行用のラッピングにかかる費用
D10: 観光資源となるようなバス（例：レトロバス）の導入費用
D11: バスターミナル内の観光案内のための施設改修費
C12: ④観光に向けて路線再編を行うための経費 | D12: 新規路線開設や既存路線再編のための調査、検討、検討会の開催、新規路線等運行開始における広告などにかかる費用
C13: ⑤地域と調整の上行う、観光需要にあわせた実証運行の実施 | D13: 地域と調整の上行う観光需要に合わせた観光路線の実証実験に係る運行経費、PR・効果検証のための費用
C14: ⑥感染症対策、安全性ＰＲ (20万円超の場合) | D14: 車内に施行された感染症拡大防止対策を周知するとともに乗客に協力を要請するための映像、パンフレット制作に要する費用
D15: 感染症対策経費（消毒費用、マスク費用、清掃費用、飛沫対策費用、換気費用、その他衛生管理費）等
C16: ⑥感染症対策、安全性ＰＲ (20万円以下の場合) | D16: 車内に施行された感染症拡大防止対策を周知するとともに乗客に協力を要請するための映像、パンフレット制作に要する費用
D17: 感染症対策経費（消毒費用、マスク費用、清掃費用、飛沫対策費用、換気費用、その他衛生管理費）等
C18: ⑦バス乗り場の利便性向上（案内表示の掲示、トイレ・休憩スペースの改修） | D18: 観光目的のために行う案内表示の掲示、トイレ・休憩スペースの改修費用、Wifi整備費
B19: 貸切バス関係 | C19: ①イベント開催や誘客のために必要となる、バス整備費用 | D19: イベント開催や誘客のために必要となる経費（企画・デザイン・広告・印刷・販売手数料の経費）
D20: イベント運行用のラッピングにかかる費用
D21: 観光資源となるようなバス（例：レトロバス）の導入費用
D22: バスターミナル内の観光案内のための施設改修費
C23: ②地域と調整の上行う、観光需要にあわせた実証運行の実施 | D23: 感染症に配慮した運行の実施に要する費用、宿泊施設等と連携して造成する新規ツアー等の実証運行に要する経費
C24: ③感染症対策、安全性ＰＲ (20万円超の場合) | D24: 車内に施行された感染症拡大防止対策を周知するとともに乗客に協力を要請するための映像、パンフレット制作に要する費用
D25: 感染症対策経費（消毒費用、マスク費用、清掃費用、飛沫対策費用、換気費用、その他衛生管理費）等
C26: ④感染症対策、安全性ＰＲ (20万円以下の場合) | D26: 車内に施行された感染症拡大防止対策を周知するとともに乗客に協力を要請するための映像、パンフレット制作に要する費用
D27: 感染症対策経費（消毒費用、マスク費用、清掃費用、飛沫対策費用、換気費用、その他衛生管理費）等
C28: ⑤バス乗り場の利便性向上（案内表示の掲示、トイレ・休憩スペースの改修） | D28: 観光目的のために行う案内表示の掲示、トイレ・休憩スペースの改修費用、Wifi整備費
B29: タクシー関係 | C29: ①イベント開催や誘客のために必要となる、タクシー整備費用 | D29: イベント開催や誘客のために必要となる経費（企画・デザイン・広告・印刷・販売手数料の経費）
D30: イベント運行用のタクシーラッピングにかかる費用
D31: 車内情報提供環境の整備
C32: ②地域と調整の上行う、観光需要にあわせた実証運行の実施 | D32: 宿泊施設等と連携して行うタクシーを活用したツアーの実証経費
D33: 駅等と観光拠点等を結ぶ定額運賃によるタクシー実証運行経費
C34: ③感染症対策、安全性ＰＲ (20万円超の場合) | D34: 車内に施行された感染症拡大防止対策を周知するとともに乗客に協力を要請するための映像、パンフレット制作に要する費用
D35: 感染症対策経費（消毒費用、マスク費用、清掃費用、飛沫対策費用、換気費用、その他衛生管理費）等
C36: ④感染症対策、安全性ＰＲ (20万円以下の場合) | D36: 車内に施行された感染症拡大防止対策を周知するとともに乗客に協力を要請するための映像、パンフレット制作に要する費用
D37: 感染症対策経費（消毒費用、マスク費用、清掃費用、飛沫対策費用、換気費用、その他衛生管理費）等
B38: 鉄軌道関係 | C38: ①鉄道を活用したイベントを開催するために要する経費 | D38: 鉄軌道を活用した観光イベント開催経費（企画・デザイン・広告・印刷・販売手数料の経費）
D39: 公共交通利用促進に資するグッズの頒布経費（景品除く）
C40: ②企画乗車券の造成・プロモーションに要する経費 | D40: 企画乗車券の造成・プロモーションに要する経費（企画・デザイン・広告・印刷・販売手数料の経費）
C41: ③イベント列車の運行等、観光目的で行う車両改造や駅の施設改修 | D41: イベント列車の運行経費
D42: 観光目的にかかる列車の導入経費（購入、改造、運搬費）
...
